BEGIN:VCALENDAR
VERSION:2.0
PRODID:-//ChamberMaster//Event Calendar 2.0//EN
METHOD:PUBLISH
X-PUBLISHED-TTL:P3D
REFRESH-INTERVAL:P3D
CALSCALE:GREGORIAN
BEGIN:VEVENT
DTSTART:20181211T180000Z
DTEND:20181211T183000Z
X-MICROSOFT-CDO-ALLDAYEVENT:FALSE
SUMMARY:Small Business Revolution - Top 10 Towns Announcement #MyFergusFalls
DESCRIPTION:Fergus Falls a Top 20 Town for the Small Business Revolution - TOP 10 Towns Announced December 11\n\n   The Top 10 Towns will be announed @SmallBizRev Facebook Page live on Tuesday\, December 11 at 12:00pm and we'll host a Viewing Party at the Chamber office.\n\n    More than 12\,000 small towns nationwide were nominated to be on the TV show "Main Street   Small Business Revolution." Twenty towns were selected as Season 4 Finalists   and Fergus Falls made the Top 20 Towns list! Minnesota-based Deluxe Corporation is on a mission to revitalize small towns   and put main street back on the map\, one small business at a time   and Fergus Falls could be next. \n\n    While more than 100 new businesses have opened here in the past 5 years\, some of our favorites closed. We don't want to lose any other small businesses. We need The Small Business Revolution in Fergus Falls because:\n\n	Our locally-owned shops anchor Lincoln Avenue and are the cornerstone of our downtown.\n	Our small business owners create jobs and they're dedicated to their employees and families.\n	Our small business owners have energy and passion for what they do   and they're committed to a strong Fergus Falls economy.\n\n    Together\, we can make it happen   and we need EVERYONE TO RALLY -- from government officials and city staff to elected city council members\, business owners and their employees\, retirees\, students\, and every Fergus Falls resident   we need YOU to tell Deluxe Corporation why we need The Small Business Revolution! Post photos of your Fergus Falls favorites on social media using hashtag #MyFergusFalls and tag Small Business Revolution.\n\n    If we're selected for the Top 10\, the Deluxe Corporation/Main Street   Small Business Revolution Team will visit Fergus Falls in January to help them narrow the list to five towns. The Top 5 Towns will go to a nationwide vote with the winner being announced in March.\n\nLet's rally for #MyFergusFalls and give our businesses the boost they need!
X-ALT-DESC;FMTTYPE=text/html:<span style="font-size:14px\;"><strong><span style="font-family:calibri\,sans-serif\;">Fergus Falls a Top 20 Town for the Small Business Revolution - TOP 10 Towns Announced December 11</span></strong></span><br />\n&nbsp\;&nbsp\;&nbsp\;<strong><span style="font-family: calibri\, sans-serif\;">The Top 10 Towns will be announed @SmallBizRev Facebook Page live on Tuesday\, December 11 at 12:00pm and we&#39\;ll host a Viewing Party at the Chamber office.<br />\n&nbsp\;</span></strong>&nbsp\;&nbsp\;&nbsp\;<span style="font-family:calibri\,sans-serif\;">More than 12\,000 small towns nationwide were nominated to be on the TV show &ldquo\;Main Street &ndash\; Small Business Revolution.&rdquo\; Twenty towns were selected as Season 4 Finalists &ndash\; <strong>and Fergus Falls made the Top 20 Towns list!</strong> Minnesota-based Deluxe Corporation is on a mission to revitalize small towns &ndash\; and put main street back on the map\, one small business at a time &ndash\; and Fergus Falls could be next. </span><br />\n&nbsp\;&nbsp\;&nbsp\;&nbsp\;<span style="font-family:calibri\,sans-serif\;">While more than 100 new businesses have opened here in the past 5 years\, some of our favorites closed. We don&rsquo\;t want to lose any other small businesses. We need The Small Business Revolution in Fergus Falls because:</span>\n<ul>\n	<li style="margin-top:0in\;margin-right:0in\;margin-bottom:12.0pt\;background:white\;vertical-align:baseline\;"><span style="font-family:calibri\,sans-serif\;">Our locally-owned shops anchor Lincoln Avenue and are the cornerstone of our downtown.</span></li>\n	<li style="margin-top:0in\;margin-right:0in\;margin-bottom:12.0pt\;background:white\;vertical-align:baseline\;"><span style="font-family:calibri\,sans-serif\;">Our small business owners create jobs and they&rsquo\;re dedicated to their employees and families.</span></li>\n	<li style="margin-top:0in\;margin-right:0in\;margin-bottom:12.0pt\;background:white\;vertical-align:baseline\;"><span style="font-family:calibri\,sans-serif\;">Our small business owners have energy and passion for what they do &ndash\; and they&rsquo\;re committed to a strong Fergus Falls economy.</span></li>\n</ul>\n&nbsp\;&nbsp\;&nbsp\;&nbsp\;<span style="font-family:calibri\,sans-serif\;">Together\, we <u>can</u> make it happen &ndash\; and we need EVERYONE TO RALLY -- from government officials and city staff to elected city council members\, business owners and their employees\, retirees\, students\, and every Fergus Falls resident &ndash\; we need YOU to tell Deluxe Corporation why <u>we need</u> The Small Business Revolution! Post photos of your Fergus Falls favorites on social media using <strong>hashtag #MyFergusFalls </strong>and tag Small Business Revolution.</span><br />\n&nbsp\;&nbsp\;&nbsp\;&nbsp\;<span style="font-family:calibri\,sans-serif\;">If we&rsquo\;re selected for the Top 10\, the Deluxe Corporation/Main Street &ndash\; Small Business Revolution Team will visit Fergus Falls in January to help them narrow the list to five towns. The Top 5 Towns will go to a nationwide vote with the winner being announced in March.</span><br />\n<span style="font-family:calibri\,sans-serif\;">Let&rsquo\;s rally for #MyFergusFalls and give our businesses the boost they need!</span>
LOCATION:Facebook Live @SmallBizRevolution or Viewing Party: Fergus Falls Area Chamber of Commerce 202 S. Court St. Fergus Falls\, MN
UID:e.314.52089
SEQUENCE:3
DTSTAMP:20260423T122758Z
URL:https://business.fergusfalls.com/events/details/small-business-revolution-top-10-towns-announcement-myfergusfalls-52089
END:VEVENT

END:VCALENDAR
