BEGIN:VCALENDAR
VERSION:2.0
PRODID:-//ChamberMaster//Event Calendar 2.0//EN
METHOD:PUBLISH
X-PUBLISHED-TTL:P3D
REFRESH-INTERVAL:P3D
CALSCALE:GREGORIAN
BEGIN:VEVENT
DTSTART:20180503T150000Z
DTEND:20180503T163000Z
X-MICROSOFT-CDO-ALLDAYEVENT:FALSE
SUMMARY:Small Business Round Table: How to Hire Top Talent
DESCRIPTION:Fergus Falls Small Business Appreciation\n\nRound Table Discussion: How to Hire Top Talent in a Small Town\nHiring top talent when your business is located in a small town can be a frustrating\, nagging problem for growing business owners.  Sometimes\, businesses hire less qualified candidates for key positions simply because they are not able to find the exact talent needed for an open position.  The results are predictable:  good-character\, well-intentioned employees sometimes can't perform to the level needed by the business\, but since it's a small town\, it becomes difficult to fire them\, in part\, because there is no one to replace them.\n\nIn this session\, Bill English will discuss ways to overcome the hiring problem for businesses in small towns.  He will discuss how to use technology to build and manage dispersed teams\, how to start the hiring process in the place where your potential candidates live and how to grow your culture when your teams do not physically work together.\n\nSpecifically\, Bill will discuss:\n\n\n	How today's technology allows you to expand the geographic regions for key employee search activities\n	How to hire an "N-1" employee\n	Why planning on turnover is essential to your success\n	How to maintain your culture when remote employees\n	Best practices for managing remote teams\n	Organization impact considerations\n\n\nAudience: Business owners\, business leaders\, HR personnel\, hiring managers
X-ALT-DESC;FMTTYPE=text/html:<span style="font-size:12px\;"><span style="font-family:verdana\;">Fergus Falls Small Business Appreciation<br />\nRound Table Discussion: How to Hire Top Talent in a Small Town</span></span>\n<p font-size:="" open="" style="box-sizing: border-box\; margin: 0px 0px 10px\; color: rgb(45\, 45\, 45)\; font-family: "><span style="font-size:12px\;"><span style="font-family:verdana\;">Hiring top talent when your business is located in a small town can be a frustrating\, nagging problem for growing business owners.&nbsp\; Sometimes\, businesses hire less qualified candidates for key positions simply because they are not able to find the exact talent needed for an open position.&nbsp\; The results are predictable:&nbsp\; good-character\, well-intentioned employees sometimes can&rsquo\;t perform to the level needed by the business\, but since it&rsquo\;s a small town\, it becomes difficult to fire them\, in part\, because there is no one to replace them.</span></span></p>\n\n<p font-size:="" open="" style="box-sizing: border-box\; margin: 0px 0px 10px\; color: rgb(45\, 45\, 45)\; font-family: "><span style="font-size:12px\;"><span style="font-family:verdana\;">In this session\, Bill English will discuss ways to overcome the hiring problem for businesses in small towns.&nbsp\; He will discuss how to use technology to build and manage dispersed teams\, how to start the hiring process in the place where your potential candidates live and how to grow your culture when your teams do not physically work together.</span></span></p>\n\n<p font-size:="" open="" style="box-sizing: border-box\; margin: 0px 0px 10px\; color: rgb(45\, 45\, 45)\; font-family: "><span style="font-size:12px\;"><span style="font-family:verdana\;">Specifically\, Bill will discuss:</span></span></p>\n\n<ol font-size:="" open="" style="box-sizing: border-box\; margin-top: 0px\; margin-bottom: 10px\; color: rgb(45\, 45\, 45)\; font-family: ">\n	<li style="box-sizing: border-box\;"><span style="font-size:12px\;"><span style="font-family:verdana\;">How today&rsquo\;s technology allows you to expand the geographic regions for key employee search activities</span></span></li>\n	<li style="box-sizing: border-box\;"><span style="font-size:12px\;"><span style="font-family:verdana\;">How to hire an &ldquo\;N-1&rdquo\; employee</span></span></li>\n	<li style="box-sizing: border-box\;"><span style="font-size:12px\;"><span style="font-family:verdana\;">Why planning on turnover is essential to your success</span></span></li>\n	<li style="box-sizing: border-box\;"><span style="font-size:12px\;"><span style="font-family:verdana\;">How to maintain your culture when remote employees</span></span></li>\n	<li style="box-sizing: border-box\;"><span style="font-size:12px\;"><span style="font-family:verdana\;">Best practices for managing remote teams</span></span></li>\n	<li style="box-sizing: border-box\;"><span style="font-size:12px\;"><span style="font-family:verdana\;">Organization impact considerations</span></span></li>\n</ol>\n\n<p font-size:="" open="" style="box-sizing: border-box\; margin: 0px 0px 10px\; color: rgb(45\, 45\, 45)\; font-family: "><span style="font-size:12px\;"><span style="font-family:verdana\;">Audience: Business owners\, business leaders\, HR personnel\, hiring managers</span></span></p>\n
LOCATION:Bigwood Event Center - Board Room 925 Western Ave. Fergus Falls\, MN 56537
UID:e.314.48767
SEQUENCE:3
DTSTAMP:20260423T235656Z
URL:https://business.fergusfalls.com/events/details/small-business-round-table-how-to-hire-top-talent-48767
END:VEVENT

END:VCALENDAR
