BEGIN:VCALENDAR
VERSION:2.0
PRODID:-//ChamberMaster//Event Calendar 2.0//EN
METHOD:PUBLISH
X-PUBLISHED-TTL:P3D
REFRESH-INTERVAL:P3D
CALSCALE:GREGORIAN
BEGIN:VEVENT
DTSTART;VALUE=DATE:20191130
DTEND;VALUE=DATE:20191201
TRANSP:TRANSPARENT
X-MICROSOFT-CDO-ALLDAYEVENT:TRUE
SUMMARY:Small Business Saturday
DESCRIPTION:Small Business Saturday is an American shopping holiday held during the Saturday after US Thanksgiving during one of the busiest shopping periods of the year. This Saturday is always the last one in November\, so falls between November 24 and November 30.
X-ALT-DESC;FMTTYPE=text/html:<strong>Small Business Saturday</strong> is an American shopping holiday held during the Saturday after US Thanksgiving during one of the busiest shopping periods of the year. This Saturday is always the last one in November\, so falls between November 24 and November 30.&nbsp\;<br />\n&nbsp\;
LOCATION:
UID:e.314.55793
SEQUENCE:3
DTSTAMP:20260422T185951Z
URL:https://business.fergusfalls.com/events/details/small-business-saturday-55793
END:VEVENT

END:VCALENDAR
