BEGIN:VCALENDAR
VERSION:2.0
PRODID:-//ChamberMaster//Event Calendar 2.0//EN
METHOD:PUBLISH
X-PUBLISHED-TTL:P3D
REFRESH-INTERVAL:P3D
CALSCALE:GREGORIAN
BEGIN:VEVENT
DTSTART;VALUE=DATE:20161125
DTEND;VALUE=DATE:20161128
TRANSP:TRANSPARENT
X-MICROSOFT-CDO-ALLDAYEVENT:TRUE
SUMMARY:Small Business Saturday at The bric
DESCRIPTION:Yes! Our Hoodies are 1/2 off for the Thanksgiving Day weekend!! Nov 25\, 26 & 27th!!
X-ALT-DESC;FMTTYPE=text/html:Yes! Our Hoodies are 1/2 off for the Thanksgiving Day weekend!! Nov 25\, 26 &amp\; 27th!!
LOCATION:
UID:e.314.37000
SEQUENCE:3
DTSTAMP:20260425T040930Z
URL:https://business.fergusfalls.com/events/details/small-business-saturday-at-the-bric-37000
END:VEVENT

END:VCALENDAR
