BEGIN:VCALENDAR
VERSION:2.0
PRODID:-//ChamberMaster//Event Calendar 2.0//EN
METHOD:PUBLISH
X-PUBLISHED-TTL:P3D
REFRESH-INTERVAL:P3D
CALSCALE:GREGORIAN
BEGIN:VEVENT
DTSTART:20161126T160000Z
DTEND:20161126T220000Z
X-MICROSOFT-CDO-ALLDAYEVENT:FALSE
SUMMARY:Small Business Saturday @ MRAG
DESCRIPTION:Shop Local & Enjoy Warm Apple Cider and Cookies!!\n\nWe Love Goodie Bags & Giving Them Away!\n\n First 30 Shoppers will Receive One!\n\n Filled with Gift Cards\, Chocolates & More!
X-ALT-DESC;FMTTYPE=text/html:Shop Local &amp\; Enjoy Warm Apple Cider and Cookies!!<br />\nWe Love Goodie Bags &amp\; Giving Them Away!<br />\n&#12299\;First 30 Shoppers will Receive One!<br />\n&#12299\;Filled with Gift Cards\, Chocolates &amp\; More!
LOCATION:MRAG Downtown Lincoln Ave
UID:e.314.36992
SEQUENCE:3
DTSTAMP:20260425T035741Z
URL:https://business.fergusfalls.com/events/details/small-business-saturday-mrag-36992
END:VEVENT

END:VCALENDAR
