BEGIN:VCALENDAR
VERSION:2.0
PRODID:-//ChamberMaster//Event Calendar 2.0//EN
METHOD:PUBLISH
X-PUBLISHED-TTL:P3D
REFRESH-INTERVAL:P3D
CALSCALE:GREGORIAN
BEGIN:VEVENT
DTSTART:20160423T210000Z
DTEND:20160424T000000Z
X-MICROSOFT-CDO-ALLDAYEVENT:FALSE
SUMMARY:Smelt Fry
DESCRIPTION:Fergus Falls Eagles\n\nSmelt Fry\n\nApril 23rd\n\n4pm-7pm (or gone)\n\nAll you can eat\n\n$10\n\n\n\nUpstairs at "The Ship"\n\n120 South Peck
X-ALT-DESC;FMTTYPE=text/html:<span style="font-size: 14px\;"><strong>Fergus Falls Eagles<br />\nSmelt Fry</strong></span><br />\n<strong>April 23rd</strong><br />\n<strong>4pm-7pm</strong> (or gone)<br />\n<strong>All you can eat<br />\n$10<br />\n<br />\nUpstairs at &quot\;The Ship&quot\;<br />\n120 South Peck</strong>
LOCATION:Upstairs at "The Ship" 120 South Peck
UID:e.314.32636
SEQUENCE:3
DTSTAMP:20260425T163022Z
URL:https://business.fergusfalls.com/events/details/smelt-fry-04-23-2016-32636
END:VEVENT

END:VCALENDAR
