BEGIN:VCALENDAR
VERSION:2.0
PRODID:-//ChamberMaster//Event Calendar 2.0//EN
METHOD:PUBLISH
X-PUBLISHED-TTL:P3D
REFRESH-INTERVAL:P3D
CALSCALE:GREGORIAN
BEGIN:VEVENT
DTSTART:20180927T160000Z
DTEND:20180927T183000Z
X-MICROSOFT-CDO-ALLDAYEVENT:FALSE
SUMMARY:Smith & Sem Open House
DESCRIPTION:Join Us September 27th 11-1:30 for our Open House.  Check out our new facilities and have lunch on us -- pulled pork sandwiches catered by The Viking Cafe.   \n\n\n\nSmith & Sem\, Ltd\n\n2011 College Way                                              \n\nFergus Falls\, MN  56537
X-ALT-DESC;FMTTYPE=text/html:<strong><span style="color:#C00000\;"><span style="font-size:12.0pt\;">Join Us September 27<sup>th</sup> 11-1:30 for our Open House.&nbsp\; Check out our new facilities and have lunch on us -- pulled pork sandwiches catered by The Viking Cafe.&nbsp\; &nbsp\;</span></span></strong><br />\n<br />\n<strong><span style="color:#4F6228\;"><span style="font-size:18.0pt\;">Smith &amp\; Sem\, Ltd</span></span></strong><br />\n2011 College Way&nbsp\;&nbsp\;&nbsp\;&nbsp\;&nbsp\;&nbsp\;&nbsp\;&nbsp\;&nbsp\;&nbsp\;&nbsp\;&nbsp\;&nbsp\;&nbsp\;&nbsp\;&nbsp\;&nbsp\;&nbsp\;&nbsp\;&nbsp\;&nbsp\;&nbsp\;&nbsp\;&nbsp\;&nbsp\;&nbsp\;&nbsp\;&nbsp\;&nbsp\;&nbsp\;&nbsp\;&nbsp\;&nbsp\;&nbsp\;&nbsp\;&nbsp\;&nbsp\;&nbsp\;&nbsp\;&nbsp\;&nbsp\;&nbsp\;&nbsp\;&nbsp\;&nbsp\;&nbsp\;<br />\nFergus Falls\, MN&nbsp\; 56537
LOCATION:Smith & Sem\, Ltd 2011 College Way Fergus Falls\, MN 56537
UID:e.314.50377
SEQUENCE:3
DTSTAMP:20260423T164041Z
URL:https://business.fergusfalls.com/events/details/smith-sem-open-house-50377
END:VEVENT

END:VCALENDAR
