BEGIN:VCALENDAR
VERSION:2.0
PRODID:-//ChamberMaster//Event Calendar 2.0//EN
METHOD:PUBLISH
X-PUBLISHED-TTL:P3D
REFRESH-INTERVAL:P3D
CALSCALE:GREGORIAN
BEGIN:VEVENT
DTSTART:20160501T020000Z
DTEND:20160501T060000Z
X-MICROSOFT-CDO-ALLDAYEVENT:FALSE
SUMMARY:Smoking Gun at the Z103
DESCRIPTION:Z103 Bar & Grill presents "Smoking Gun"
X-ALT-DESC;FMTTYPE=text/html:Z103 Bar &amp\; Grill presents &quot\;Smoking Gun&quot\;
LOCATION:Z103 Bar & Grill 925 Western Avenue Fergus Falls\, MN 565380438
UID:e.314.32663
SEQUENCE:3
DTSTAMP:20260425T163252Z
URL:https://business.fergusfalls.com/events/details/smoking-gun-at-the-z103-04-30-2016-32663
END:VEVENT

END:VCALENDAR
