BEGIN:VCALENDAR
VERSION:2.0
PRODID:-//ChamberMaster//Event Calendar 2.0//EN
METHOD:PUBLISH
X-PUBLISHED-TTL:P3D
REFRESH-INTERVAL:P3D
CALSCALE:GREGORIAN
BEGIN:VEVENT
DTSTART:20151219T162000Z
DTEND:20151219T183000Z
X-MICROSOFT-CDO-ALLDAYEVENT:FALSE
SUMMARY:Snowflake Invite - Gymnastics
DESCRIPTION:Come see your Fergus Falls Sparks and Firecrackers gymnastics teams as they host Frazee and Milbank at Roosevelt Gymnasium this Saturday at 10:20! Tickets are just $5 for adults\, $3 students\, 5 and under free! Bring a friend and come see GREAT gymnastics up close!
X-ALT-DESC;FMTTYPE=text/html:Come see your Fergus Falls Sparks and Firecrackers gymnastics teams as they host Frazee and Milbank at Roosevelt Gymnasium this Saturday at 10:20! Tickets are just $5 for adults\, $3 students\, 5 and under free! Bring a friend and come see GREAT gymnastics up close!
LOCATION:Roosevelt Gymnasium
UID:e.314.27962
SEQUENCE:3
DTSTAMP:20260425T232522Z
URL:https://business.fergusfalls.com/events/details/snowflake-invite-gymnastics-12-19-2015-27962
END:VEVENT

END:VCALENDAR
