BEGIN:VCALENDAR
VERSION:2.0
PRODID:-//ChamberMaster//Event Calendar 2.0//EN
METHOD:PUBLISH
X-PUBLISHED-TTL:P3D
REFRESH-INTERVAL:P3D
CALSCALE:GREGORIAN
BEGIN:VEVENT
DTSTART;VALUE=DATE:20170103
DTEND;VALUE=DATE:20170202
TRANSP:TRANSPARENT
X-MICROSOFT-CDO-ALLDAYEVENT:TRUE
SUMMARY:Snowman Contest -
DESCRIPTION:Snowman Contest 2017\n\n\n\nCalling All Businesses\, Departments\, and Fun Lovers...\n\n\n\n\nNow- February 1\, 2017\n\n \n\n\n	\n	Who Can Enter: Chamber Members- businesses\, churches\, non-profit organizations\, clubs\, includes departments or divisions within each business\n	\n	Snow or No Snow: Inside or Outside of your business location\n	Judged on: creativity and materials used \n	\n	 To Enter Contest: Share your snowman picture on our Facebook Page\n	\n	Winner receives \n	\n	\n	$100 F\n	\n	\n	ergus Bucks - Winner Announced -\n	\n	\n	\n	\n	\n\n	\n	\n	\n	 Friday Feb 3\n	\n	\n	\n	\n\n\n\nTo Enter :\n\nShare Your Snowman Picture on our Fergus Falls Area Chamber of Commerce Facebook Page.
X-ALT-DESC;FMTTYPE=text/html:<div -webkit-text-stroke-width:="" align="center" background-color:="" class="FeatureHeadingText" data-gcf-font-size="18pt" font-size:="" font-style:="" font-variant-caps:="" font-variant-ligatures:="" font-weight:="" new="" orphans:="" style="text-align: center\; color: rgb(0\, 0\, 0)\; text-transform: none\; text-indent: 0px\; letter-spacing: normal\; font-family: Georgia\, " times="" white-space:="" widows:="" word-spacing:=""><b>Snowman Contest 2017</b></div>\n\n<div -webkit-text-stroke-width:="" align="center" background-color:="" class="FeatureHeadingText" data-gcf-font-size="18pt" font-size:="" font-style:="" font-variant-caps:="" font-variant-ligatures:="" font-weight:="" new="" orphans:="" style="text-align: center\; color: rgb(0\, 0\, 0)\; text-transform: none\; text-indent: 0px\; letter-spacing: normal\; font-family: Georgia\, " times="" white-space:="" widows:="" word-spacing:="">\n<div style="color: rgb(0\, 128\, 0)\; font-size: 12pt\;">\n<div><b>Calling All Businesses\, Departments\, and Fun Lovers...</b></div>\n</div>\n\n<div style="color: rgb(255\, 0\, 0)\; font-size: 11pt\;">\n<div>\n<div><b><span>Now- February 1\, 2017</span></b><br />\n&nbsp\;\n<div -webkit-text-stroke-width:="" _mce_style="text-align: center\; font-size: 12pt\; color: #000000\;" align="center" background-color:="" font-size:="" font-style:="" font-variant-caps:="" font-variant-ligatures:="" font-weight:="" new="" orphans:="" style="text-align: center\; color: rgb(0\, 0\, 0)\; text-transform: none\; text-indent: 0px\; letter-spacing: normal\; font-family: Georgia\, " times="" white-space:="" widows:="" word-spacing:="">\n<ul>\n	<li>\n	<div _mce_style="text-align: left\;" align="left" style="text-align: left\;"><strong>Who Can Enter:</strong> Chamber Members- businesses\, churches\, non-profit organizations\, clubs\, includes departments or divisions within each business</div>\n	</li>\n	<li _mce_style="text-align: left\;" align="left" style="text-align: left\;"><strong>Snow or No Snow:</strong> Inside or Outside of your business location</li>\n	<li _mce_style="text-align: left\;" align="left" style="text-align: left\;"><strong>Judged on: </strong>creativity and <span _mce_style="color: #000000\;" style="color: rgb(0\, 0\, 0)\;">materials used&nbsp\;</span></li>\n	<li _mce_style="text-align: left\;" align="left" style="text-align: left\;">\n	<div><span _mce_style="font-size: 12pt\;" style="font-size: 12pt\;"><strong>&nbsp\;To Enter Contest: </strong></span><span _mce_style="font-size: 12pt\;" style="font-size: 12pt\;">Share your snowman picture on our <a _mce_href="https://www.facebook.com/pages/Fergus-Falls-Area-Chamber-of-Commerce/270363716327829" _mce_style="font-weight: bold\; color: #0000ff !important\; text-decoration: underline !important\;" href="https://www.facebook.com/pages/Fergus-Falls-Area-Chamber-of-Commerce/270363716327829" linktype="1" style="color: rgb(0\, 0\, 255) !important\; font-weight: bold\; text-decoration: underline !important\;" target="_blank" track="on">Facebook Page</a></span></div>\n	</li>\n	<li _mce_style="text-align: left\;" align="left" style="text-align: left\;"><em><strong>Winner receives&nbsp\;</strong></em>\n	<div _mce_style="display: inline !important\;" style="display: inline !important\;">\n	<div _mce_style="display: inline !important\;" style="display: inline !important\;">\n	<div _mce_style="display: inline !important\;" style="display: inline !important\;"><span><em><strong><span><em><strong><span _mce_style="color: #ff0000\;" style="color: rgb(255\, 0\, 0)\;">$100</span> <span _mce_style="color: #008000\;" style="color: rgb(0\, 128\, 0)\;">F</span></strong></em></span></strong></em></span>\n	<div _mce_style="display: inline !important\;" style="display: inline !important\;">\n	<div _mce_style="display: inline !important\;" style="display: inline !important\;">\n	<div _mce_style="display: inline !important\;" style="display: inline !important\;"><span><em><strong><span><em><strong><span _mce_style="color: #008000\;" style="color: rgb(0\, 128\, 0)\;"><em><strong><em><strong><span _mce_style="color: #008000\;" style="color: rgb(0\, 128\, 0)\;">ergus Bucks <span _mce_style="color: #000000\;" style="color: rgb(0\, 0\, 0)\;">- </span><span style="font-size: 8px\;"><span _mce_style="font-size: 8pt\; color: #000000\;" style="color: rgb(0\, 0\, 0)\;">Winner Announced -</span></span></span></strong></em></strong></em></span></strong></em></span></strong></em></span></div>\n	</div>\n	</div>\n	</div>\n	</div>\n	</div>\n\n	<div _mce_style="display: inline !important\; font-size: 8pt\;" style="font-size: 8pt\; display: inline !important\;">\n	<div _mce_style="display: inline !important\;" style="display: inline !important\;">\n	<div _mce_style="display: inline !important\;" style="display: inline !important\;">\n	<div _mce_style="display: inline !important\;" style="display: inline !important\;"><span style="font-size: 8px\;"><em><strong><em><strong><span _mce_style="color: #008000\;" style="color: rgb(0\, 128\, 0)\;"><span _mce_style="color: #000000\;" style="color: rgb(0\, 0\, 0)\;">&nbsp\;<span _mce_style="color: #ff0000\;" style="color: rgb(255\, 0\, 0)\;">Friday Feb 3</span></span></span></strong></em></strong></em></span></div>\n	</div>\n	</div>\n	</div>\n	</li>\n</ul>\n</div>\n\n<div -webkit-text-stroke-width:="" _mce_style="text-align: center\; font-size: 12pt\; color: #000000\;" align="center" background-color:="" font-size:="" font-style:="" font-variant-caps:="" font-variant-ligatures:="" font-weight:="" new="" orphans:="" style="text-align: center\; color: rgb(0\, 0\, 0)\; text-transform: none\; text-indent: 0px\; letter-spacing: normal\; font-family: Georgia\, " times="" white-space:="" widows:="" word-spacing:=""><strong>To Enter :</strong></div>\n\n<div -webkit-text-stroke-width:="" _mce_style="text-align: center\; font-size: 12pt\; color: #000000\;" align="center" background-color:="" font-size:="" font-style:="" font-variant-caps:="" font-variant-ligatures:="" font-weight:="" new="" orphans:="" style="text-align: center\; color: rgb(0\, 0\, 0)\; text-transform: none\; text-indent: 0px\; letter-spacing: normal\; font-family: Georgia\, " times="" white-space:="" widows:="" word-spacing:=""><span _mce_style="color: #000000\;" style="color: rgb(0\, 0\, 0)\;">Share Your Snowman Picture on our</span> <a _mce_href="https://www.facebook.com/pages/Fergus-Falls-Area-Chamber-of-Commerce/270363716327829" _mce_style="font-weight: bold\; color: #0000ff !important\; text-decoration: underline !important\;" href="https://www.facebook.com/pages/Fergus-Falls-Area-Chamber-of-Commerce/270363716327829" linktype="1" style="color: rgb(0\, 0\, 255) !important\; font-weight: bold\; text-decoration: underline !important\;" target="_blank" track="on">Fergus Falls Area Chamber of Commerce Facebook Page</a>.</div>\n</div>\n</div>\n</div>\n</div>\n
LOCATION:
UID:e.314.37265
SEQUENCE:3
DTSTAMP:20260424T224633Z
URL:https://business.fergusfalls.com/events/details/snowman-contest-37265
END:VEVENT

END:VCALENDAR
