BEGIN:VCALENDAR
VERSION:2.0
PRODID:-//ChamberMaster//Event Calendar 2.0//EN
METHOD:PUBLISH
X-PUBLISHED-TTL:P3D
REFRESH-INTERVAL:P3D
CALSCALE:GREGORIAN
BEGIN:VEVENT
DTSTART:20180512T133000Z
DTEND:20180513T023000Z
X-MICROSOFT-CDO-ALLDAYEVENT:FALSE
SUMMARY:SO Fun Run
DESCRIPTION:Hey friends! We're back for 2018! You can register now for the 2018 Fun Run\, held Saturday\, May 12th\, at M-State in Fergus Falls.\n\n\n\n1 mile: 8:30am\n\n5K: 9am\n\n\n\nRegister today!\n\n\n\nwww.sofunrun.com
X-ALT-DESC;FMTTYPE=text/html:<span class="_4n-j _fbReactionComponent__eventDetailsContentTags fsl" data-testid="event-permalink-details">Hey friends! We&#39\;re back for 2018! You can register now for the 2018 Fun Run\, held Saturday\, May 12th\, at M-State in Fergus Falls.<br />\n<br />\n1 mile: 8:30am<br />\n5K: 9am<br />\n<br />\nRegister today!<br />\n<br />\n<a data-lynx-mode="hover" data-lynx-uri="http://l.facebook.com/l.php?u=http%3A%2F%2Fwww.sofunrun.com%2F&amp\;h=ATPLwUBfMVa2tt48Bp2MGbGFdd2RZv1ZdfcPz2nJn_-5_D4oMtCiivkVcRHMw5DDAbBlWhndY7WnbGGIkSPpYzvvYdtNZmB-cPlUTwZwmZp0z-VhLg" href="http://www.sofunrun.com/" rel="nofollow" target="_blank"><font color="#0066cc">www.sofunrun.com</font></a></span>
LOCATION:M State Fergus Falls 1414 College Way\, Fergus Falls
UID:e.314.47432
SEQUENCE:3
DTSTAMP:20260423T223004Z
URL:https://business.fergusfalls.com/events/details/so-fun-run-47432
END:VEVENT

END:VCALENDAR
