BEGIN:VCALENDAR
VERSION:2.0
PRODID:-//ChamberMaster//Event Calendar 2.0//EN
METHOD:PUBLISH
X-PUBLISHED-TTL:P3D
REFRESH-INTERVAL:P3D
CALSCALE:GREGORIAN
BEGIN:VEVENT
DTSTART:20190907T200000Z
DTEND:20190908T000000Z
X-MICROSOFT-CDO-ALLDAYEVENT:FALSE
SUMMARY:SOBER's NP Park Fundraiser
DESCRIPTION:You're invited to join us in supporting the 1st annual SOBER's NP PARK FUNDRAISER. The Society of Brewing Engineers & Research\, a Fergus Falls local homebrew club\, is holding an NP Park fundraiser in support of Fergus Falls Noon Kiwanis "Project Play NP Park Rebuild." This will be a family friendly fun event on Saturday\, Sept. 7th from 3 to 7pm at NP Park. You'll enjoy an afternoon of BBQ\, craft beer and games for the kids and families. We will be serving craft beer from Ashby Brewing Company\, Fergus Falls Brewing company\, Union Pizza & Brewing Co\, and SOBER\, your local homebrew club. There will also be food and non alcoholic beverages served. Project Play NP Park is an effort to replace playground equipment with upgraded pieces that are handicap accessible so that ALL families and children can enjoy a fun place that is a central landmark of Fergus Falls. S.O.B.E.R. sees the importance of the project and wanted to team up to help raise funds and plan a fun family event to do so. Your support will help reach a goal to provide Fergus Falls families and children with physical disabilities a fun and safe place to play for years to come! Please share and like our Facebook page!
X-ALT-DESC;FMTTYPE=text/html:You&rsquo\;re invited to join us in supporting the 1st annual SOBER&rsquo\;s NP PARK FUNDRAISER. The Society of Brewing Engineers &amp\; Research\, a Fergus Falls local homebrew club\, is holding an NP Park fundraiser in support of Fergus Falls Noon Kiwanis &ldquo\;Project Play NP Park Rebuild.&rdquo\; This will be a family friendly fun event on Saturday\, Sept. 7th from 3 to 7pm at NP Park. You&rsquo\;ll enjoy an afternoon of BBQ\, craft beer and games for the kids and families. We will be serving craft beer from Ashby Brewing Company\, Fergus Falls Brewing company\, Union Pizza &amp\; Brewing Co\, and SOBER\, your local homebrew club. There will also be food and non alcoholic beverages served. Project Play NP Park is an effort to replace playground equipment with upgraded pieces that are handicap accessible so that ALL families and children can enjoy a fun place that is a central landmark of Fergus Falls. S.O.B.E.R. sees the importance of the project and wanted to team up to help raise funds and plan a fun family event to do so. Your support will help reach a goal to provide Fergus Falls families and children with physical disabilities a fun and safe place to play for years to come! Please share and like our Facebook page!
LOCATION:NP Park\, Fergus Falls\, MN
UID:e.314.54557
SEQUENCE:3
DTSTAMP:20260422T222344Z
URL:https://business.fergusfalls.com/events/details/sober-s-np-park-fundraiser-54557
END:VEVENT

END:VCALENDAR
