BEGIN:VCALENDAR
VERSION:2.0
PRODID:-//ChamberMaster//Event Calendar 2.0//EN
METHOD:PUBLISH
X-PUBLISHED-TTL:P3D
REFRESH-INTERVAL:P3D
CALSCALE:GREGORIAN
BEGIN:VEVENT
DTSTART:20210616T233000Z
DTEND:20210617T010000Z
X-MICROSOFT-CDO-ALLDAYEVENT:FALSE
SUMMARY:Social Justice Book Club at the Public Library
DESCRIPTION:
X-ALT-DESC;FMTTYPE=text/html:
LOCATION:Fergus Falls Public Library 205 E Hampden Ave Fergus Falls MN 56537
UID:e.314.62415
SEQUENCE:3
DTSTAMP:20260421T124133Z
URL:https://business.fergusfalls.com/events/details/social-justice-book-club-at-the-public-library-62415
END:VEVENT

END:VCALENDAR
