BEGIN:VCALENDAR
VERSION:2.0
PRODID:-//ChamberMaster//Event Calendar 2.0//EN
METHOD:PUBLISH
X-PUBLISHED-TTL:P3D
REFRESH-INTERVAL:P3D
CALSCALE:GREGORIAN
BEGIN:VEVENT
DTSTART:20180224T200000Z
DTEND:20180224T223000Z
X-MICROSOFT-CDO-ALLDAYEVENT:FALSE
SUMMARY:Social Media Basics
DESCRIPTION:Social Media Basics\n\nSaturday\, February 24\, 2 - 4:30pm\n\nUsing Facebook and Twitter examples\, learn core functionality\, best practices and exercises to help you build an online strategy for your artistic business.\n\n\n\nThis is a FREE workshop that is offered to all artists and is part of the Work of Art Series at Springboard for the Arts.\n\n\n\nLocation: The Spot Panini & Wine\, 220 West Lincoln Ave.\, Fergus Falls\, MN 56537.\n\n\n\nPlease register at the following link:\n\nhttps://springboardforthearts.org/winter-spring-workshops-in-fergus-falls-registration-form/\n\n\n\nAny questions please contact Dominic at 218-998-4037 or email dominic@springboardforthearts.org
X-ALT-DESC;FMTTYPE=text/html:<span class="_4n-j _3cht fsl" data-testid="event-permalink-details">Social Media Basics<br />\nSaturday\, February 24\, 2 - 4:30pm<br />\nUsing Facebook and Twitter examples\, learn core functionality\, best practices and exercises to help you build an online strategy for your artistic business.<br />\n<br />\nThis is a FREE workshop that is offered to all artists and is part of the Work of Art Series at Springboard for the Arts.<br />\n<br />\nLocation: The Spot Panini &amp\; Wine\, 220 West Lincoln Ave.\, Fergus Falls\, MN 56537.<br />\n<br />\nPlease register at the following link:<br />\n<a data-lynx-mode="hover" href="https://l.facebook.com/l.php?u=https%3A%2F%2Fspringboardforthearts.org%2Fwinter-spring-workshops-in-fergus-falls-registration-form%2F&amp\;h=ATMVLPB5e1OkN7sjVgs2l1FFPtaTCvhrLzQ1EQuvxnOQI_pTXY1dTrHV4OiNDe5GyhzTQD0xB63J0mHL9xCFbeyr4jlzdIjkfjigU97LdDocr94XRPMxoN5Fitj7bXom4O_TwOVndfeMIgG32AE" rel="nofollow" target="_blank"><font color="#0066cc"><span>https://</span><wbr /><span>springboardforthearts.org/</span><wbr /><span>winter-spring-workshops-in-</span><wbr /><span>fergus-falls-registration-</span><wbr /></font><font color="#0066cc">form/</font></a><br />\n<br />\n<span>Any questions please contact Dominic at 218-998-4037 or email dominic@springboardforthea</span><wbr />rts.org</span>
LOCATION:The Spot Panini & Wine 220 W Lincoln Ave\, Fergus Falls
UID:e.314.43892
SEQUENCE:3
DTSTAMP:20260424T025034Z
URL:https://business.fergusfalls.com/events/details/social-media-basics-43892
END:VEVENT

END:VCALENDAR
