BEGIN:VCALENDAR
VERSION:2.0
PRODID:-//ChamberMaster//Event Calendar 2.0//EN
METHOD:PUBLISH
X-PUBLISHED-TTL:P3D
REFRESH-INTERVAL:P3D
CALSCALE:GREGORIAN
BEGIN:VEVENT
DTSTART:20181023T150000Z
DTEND:20181023T170000Z
X-MICROSOFT-CDO-ALLDAYEVENT:FALSE
SUMMARY:Social Media Marketing Training Event in Fergus Falls
DESCRIPTION:Join Shannon Berns\, MBA from Du Nord Consulting and a WC MN SBDC Consultant. Learn how to develop your target market and how to harness and showcase what is unique about your business. Understand the most commonly used social media platforms and how they can generate valuable awareness. What works for your business may not be what is useful for another. Using tools available to all businesses you can broaden your customer base and tighten your scope.
X-ALT-DESC;FMTTYPE=text/html:<div class="_63ew" data-testid="event-permalink-details"><span>Join Shannon Berns\, MBA from Du Nord Consulting and a WC MN SBDC Consultant. Learn how to develop your target market and how to harness and showcase what is unique about your business. Understand the most commonly used social media platforms and how they can generate valuable awareness. What works for your business may not be what is useful for another. Using tools available to all businesses you can broaden your customer base and tighten your scope.</span></div>\n
LOCATION:West Central Initiative 1000 Western Ave | PO Box 318\, Fergus Falls
UID:e.314.50318
SEQUENCE:3
DTSTAMP:20260423T151213Z
URL:https://business.fergusfalls.com/events/details/social-media-marketing-training-event-in-fergus-falls-50318
END:VEVENT

END:VCALENDAR
