BEGIN:VCALENDAR
VERSION:2.0
PRODID:-//ChamberMaster//Event Calendar 2.0//EN
METHOD:PUBLISH
X-PUBLISHED-TTL:P3D
REFRESH-INTERVAL:P3D
CALSCALE:GREGORIAN
BEGIN:VEVENT
DTSTART:20151031T020000Z
DTEND:20151031T040000Z
X-MICROSOFT-CDO-ALLDAYEVENT:FALSE
SUMMARY:Social's- Live Music
DESCRIPTION:Socials Bar & Grill \n\nBob Walkenhorst of The Rainmakers will be performing an Acoustic set LIVE at Socials Bar & Grill on Friday Oct. 30 2015. There will also be live music by The Nameless before and after this Acoustic set and it is rumoured that Bob will be performing with the band that evening as well. A small cover charge at the door will be appreciated.\n\n\n\nBrought to you by Anderson/Rudh/Brandt/Berger Productions in cooperation with Socials Bar & Grill
X-ALT-DESC;FMTTYPE=text/html:<div class="_6a _6b">\n<div class="_5v1l _11s4"><strong>Socials Bar &amp\; Grill </strong><br />\n<span class="fsl">Bob Walkenhorst of The Rainmakers will be performing an Acoustic set LIVE at Socials Bar &amp\; Grill on Friday Oct. 30 2015. There will also be live music by The Nameless before and after this Acoustic set and it is rumoured that Bob will be performing with the band that evening as well. A small cover charge at the door will be appreciated.<br />\n<br />\n<span>Brought to you by Anderson/Rudh/Brandt/</span><wbr />Berger Productions in cooperation with Socials Bar &amp\; Grill</span></div>\n</div>\n
LOCATION:Socials Bar & Grill 1815 W Lincoln Ave Fergus Falls Mn
UID:e.314.25906
SEQUENCE:3
DTSTAMP:20260426T030137Z
URL:https://business.fergusfalls.com/events/details/social-s-live-music-10-30-2015-25906
END:VEVENT

END:VCALENDAR
