BEGIN:VCALENDAR
VERSION:2.0
PRODID:-//ChamberMaster//Event Calendar 2.0//EN
METHOD:PUBLISH
X-PUBLISHED-TTL:P3D
REFRESH-INTERVAL:P3D
CALSCALE:GREGORIAN
BEGIN:VEVENT
DTSTART:20170317T160000Z
DTEND:20170318T060000Z
X-MICROSOFT-CDO-ALLDAYEVENT:FALSE
SUMMARY:Social's St Patrick's Day Celebration
DESCRIPTION:Stop in on March 17th for a few cold green beers to celebrate St Patrick's Day! We will also be serving corned beef\, cabbage and boiled potatoes all day and evening for $9.95. We will have drink specials on green beer and Guinness. Wear green and get a free leprechaun shot!
X-ALT-DESC;FMTTYPE=text/html:<span class="_4n-j _3cht fsl" data-testid="event-permalink-details">Stop in on March 17th for a few cold green beers to celebrate St Patrick&#39\;s Day! We will also be serving corned beef\, cabbage and boiled potatoes all day and evening for $9.95. We will have drink specials on green beer and Guinness. Wear green and get a free leprechaun shot!</span>
LOCATION:Social's Bar & Grill 1815 W Lincoln Ave
UID:e.314.38914
SEQUENCE:3
DTSTAMP:20260424T224958Z
URL:https://business.fergusfalls.com/events/details/social-s-st-patrick-s-day-celebration-38914
END:VEVENT

END:VCALENDAR
