BEGIN:VCALENDAR
VERSION:2.0
PRODID:-//ChamberMaster//Event Calendar 2.0//EN
METHOD:PUBLISH
X-PUBLISHED-TTL:P3D
REFRESH-INTERVAL:P3D
CALSCALE:GREGORIAN
BEGIN:VEVENT
DTSTART:20151030T010000Z
DTEND:20151030T033000Z
X-MICROSOFT-CDO-ALLDAYEVENT:FALSE
SUMMARY:Socials -Live Music
DESCRIPTION:Socials Bar and Grill in Fergus Falls presents\, From Minneapolis MN\, Original Folk Rocker "The Wrong Omar"\, Thursday October 29th\, 8:00-10:30 PM Details:"The Wrong Omar" supports his recent release "Zemblanity"\, with\n\ntwang\, jangle and homespun "sidewalk confessionals of bad choices". Songs\, stories and Rock&Roll aphorisms that can bring a tear to a glass eye( my apologies if you happen to have one ). Heard on: KUMD\,KFAI\,\n\nKUWS\,WDVX\,KDTR\,KMSU\,WTIP\,WETS\,WGNW. Appeared with: Joe Savage\, Glen Templeton\, RB Morris\, Daphne Willis\, Hamilton Loomis\, Della Mae and Monroe
X-ALT-DESC;FMTTYPE=text/html:<span class="fsl">Socials Bar and Grill in Fergus Falls presents\, From Minneapolis MN\, Original Folk Rocker &quot\;The Wrong Omar&quot\;\, Thursday October 29th\, 8:00-10:30 PM Details:&quot\;The Wrong Omar&quot\; supports his recent release &quot\;Zemblanity&quot\;\, with<br />\ntwang\, jangle and homespun &quot\;sidewalk confessionals of bad choices&quot\;. Songs\, stories and Rock&amp\;Roll aphorisms that can bring a tear to a glass eye( my apologies if you happen to have one ). Heard on: KUMD\,KFAI\,<br />\n<span>KUWS\,WDVX\,KDTR\,KMSU\,WTIP\,W</span><wbr />ETS\,WGNW. Appeared with: Joe Savage\, Glen Templeton\, RB Morris\, Daphne Willis\, Hamilton Loomis\, Della Mae and Monroe </span><br />\n&nbsp\;
LOCATION:Socials Bar and Grill 1815 West Lincoln Ave\, Fergus Falls
UID:e.314.25905
SEQUENCE:3
DTSTAMP:20260426T030021Z
URL:https://business.fergusfalls.com/events/details/socials-live-music-10-29-2015-25905
END:VEVENT

END:VCALENDAR
