BEGIN:VCALENDAR
VERSION:2.0
PRODID:-//ChamberMaster//Event Calendar 2.0//EN
METHOD:PUBLISH
X-PUBLISHED-TTL:P3D
REFRESH-INTERVAL:P3D
CALSCALE:GREGORIAN
BEGIN:VEVENT
DTSTART:20160213T163000Z
DTEND:20160213T193000Z
X-MICROSOFT-CDO-ALLDAYEVENT:FALSE
SUMMARY:Someplace Safe 13th Annual Tea Fundraiser
DESCRIPTION:Silent auction\, program\, luncheon & tea. Also featuring The Fergus Falls School of Dance & Fashion Show. All proceeds go to support programs and services provided by Someplace Safe.
X-ALT-DESC;FMTTYPE=text/html:Silent auction\, program\, luncheon &amp\; tea. Also featuring The Fergus Falls School of Dance &amp\; Fashion Show. All proceeds go to support programs and services provided by Someplace Safe.
LOCATION:M-State\, Legacy Hall\, Fergus Falls
UID:e.314.30709
SEQUENCE:3
DTSTAMP:20260425T200852Z
URL:https://business.fergusfalls.com/events/details/someplace-safe-13th-annual-tea-fundraiser-02-13-2016-30709
END:VEVENT

END:VCALENDAR
