BEGIN:VCALENDAR
VERSION:2.0
PRODID:-//ChamberMaster//Event Calendar 2.0//EN
METHOD:PUBLISH
X-PUBLISHED-TTL:P3D
REFRESH-INTERVAL:P3D
CALSCALE:GREGORIAN
BEGIN:VEVENT
DTSTART:20161109T170000Z
DTEND:20161109T190000Z
X-MICROSOFT-CDO-ALLDAYEVENT:FALSE
SUMMARY:Soup's On
DESCRIPTION:4th Annual Customer Appreciation Lunch Enjoy some Delicious Hot Soup! Register for area merchant gift cards! Vote for your favorite soup! We will be collecting food items for our local food shelf!
X-ALT-DESC;FMTTYPE=text/html:4th Annual Customer Appreciation Lunch Enjoy some Delicious Hot Soup! Register for area merchant gift cards! Vote for your favorite soup! We will be collecting food items for our local food shelf!
LOCATION:225 W Cavour Fergus Falls\, MN 56537
UID:e.314.36324
SEQUENCE:3
DTSTAMP:20260425T034601Z
URL:https://business.fergusfalls.com/events/details/soup-s-on-36324
END:VEVENT

END:VCALENDAR
