BEGIN:VCALENDAR
VERSION:2.0
PRODID:-//ChamberMaster//Event Calendar 2.0//EN
METHOD:PUBLISH
X-PUBLISHED-TTL:P3D
REFRESH-INTERVAL:P3D
CALSCALE:GREGORIAN
BEGIN:VEVENT
DTSTART:20151117T170000Z
DTEND:20151117T190000Z
X-MICROSOFT-CDO-ALLDAYEVENT:FALSE
SUMMARY:"Soups On" Customer Appreciation Lunch
DESCRIPTION:3rd Annual 'Soup's On" Customer Appreciation Lunch for past\, present and future customers from 11am to 1pm Tuesday\, November 17th at Keller Williams Realty Professionals at 225 West Cavour. Stop in and warm up with some delicious hot soup! We are collecting Food Shelf items as well! See you the November 17th!
X-ALT-DESC;FMTTYPE=text/html:3rd Annual &#39\;Soup&#39\;s On&quot\; Customer Appreciation Lunch for past\, present and future customers from 11am to 1pm Tuesday\, November 17th at Keller Williams Realty Professionals at 225 West Cavour. Stop in and warm up with some delicious hot soup! We are collecting Food Shelf items as well! See you the November 17th!
LOCATION:225 W Cavour Fergus Falls\, MN
UID:e.314.25987
SEQUENCE:3
DTSTAMP:20260426T011307Z
URL:https://business.fergusfalls.com/events/details/soups-on-customer-appreciation-lunch-11-17-2015-25987
END:VEVENT

END:VCALENDAR
