BEGIN:VCALENDAR
VERSION:2.0
PRODID:-//ChamberMaster//Event Calendar 2.0//EN
METHOD:PUBLISH
X-PUBLISHED-TTL:P3D
REFRESH-INTERVAL:P3D
CALSCALE:GREGORIAN
BEGIN:VEVENT
DTSTART:20171110T170000Z
DTEND:20171110T190000Z
X-MICROSOFT-CDO-ALLDAYEVENT:FALSE
SUMMARY:Soups On Lunch!
DESCRIPTION:Soups On Lunch! \n\n\n\nHosted by Ryan Hanson Homes- Keller Williams\n\n\n\nIn appreciation of our past\, present and future clients\, come on in for some delicious soups (your Keller Williams chefs are competing for the best!)\, gift cards and fun! We will be collecting items for the local food shelf as well to help bring amazing food to the tables for all this Thanksgiving. Mark it on your calendars... we hope to see YOU there!
X-ALT-DESC;FMTTYPE=text/html:<strong>Soups On Lunch!&nbsp\;</strong><br />\n<br />\nHosted by Ryan Hanson Homes- Keller Williams<br />\n<br />\n<span class="_4n-j _fbReactionComponent__eventDetailsContentTags fsl" data-testid="event-permalink-details">In appreciation of our past\, present and future clients\, come on in for some delicious soups (your Keller Williams chefs are competing for the best!)\, gift cards and fun! We will be collecting items for the local food shelf as well to help bring amazing food to the tables for all this Thanksgiving. Mark it on your calendars... we hope to see YOU there!</span><br />\n&nbsp\;
LOCATION:Fergus Falls YMCA 1164 Friberg Ave
UID:e.314.43016
SEQUENCE:3
DTSTAMP:20260424T073625Z
URL:https://business.fergusfalls.com/events/details/soups-on-lunch-43016
END:VEVENT

END:VCALENDAR
