BEGIN:VCALENDAR
VERSION:2.0
PRODID:-//ChamberMaster//Event Calendar 2.0//EN
METHOD:PUBLISH
X-PUBLISHED-TTL:P3D
REFRESH-INTERVAL:P3D
CALSCALE:GREGORIAN
BEGIN:VEVENT
DTSTART:20160418T213000Z
DTEND:20160418T233000Z
X-MICROSOFT-CDO-ALLDAYEVENT:FALSE
SUMMARY:Spaghetti Dinner
DESCRIPTION:Spaghetti Dinner Take out available
X-ALT-DESC;FMTTYPE=text/html:Spaghetti Dinner Take out available
LOCATION:Fergus Falls Senior Center 115 W Lincoln Fergus Falls\, MN 56537
UID:e.314.32047
SEQUENCE:3
DTSTAMP:20260425T162703Z
URL:https://business.fergusfalls.com/events/details/spaghetti-dinner-04-18-2016-32047
END:VEVENT

END:VCALENDAR
