BEGIN:VCALENDAR
VERSION:2.0
PRODID:-//ChamberMaster//Event Calendar 2.0//EN
METHOD:PUBLISH
X-PUBLISHED-TTL:P3D
REFRESH-INTERVAL:P3D
CALSCALE:GREGORIAN
BEGIN:VEVENT
DTSTART:20200330T210000Z
DTEND:20200330T233000Z
X-MICROSOFT-CDO-ALLDAYEVENT:FALSE
SUMMARY:Spaghetti Dinner
DESCRIPTION:Spaghetti Dinner
X-ALT-DESC;FMTTYPE=text/html:<br />\nSpaghetti Dinner
LOCATION:Fergus Falls Senior Center 115 West Lincoln Avenue Fergus Falls\, MN
UID:e.314.57229
SEQUENCE:3
DTSTAMP:20260422T124206Z
URL:https://business.fergusfalls.com/events/details/spaghetti-dinner-57229
END:VEVENT

END:VCALENDAR
