BEGIN:VCALENDAR
VERSION:2.0
PRODID:-//ChamberMaster//Event Calendar 2.0//EN
METHOD:PUBLISH
X-PUBLISHED-TTL:P3D
REFRESH-INTERVAL:P3D
CALSCALE:GREGORIAN
BEGIN:VEVENT
DTSTART:20171002T220000Z
DTEND:20171003T000000Z
X-MICROSOFT-CDO-ALLDAYEVENT:FALSE
SUMMARY:Spaghetti Feed - FFFD
DESCRIPTION:Our annual Spaghetti Feed Cook Off. This is an annual event to commemorate National Fire Prevention Week. This years theme for Fire Prevention Week is: "Every Second Counts! Plan 2 Ways Out"\n\nWe encourage everyone to practice their home escape plan. Local businesses and vendors compete to see who gets voted as the favorite Spaghetti sauce. Stop down eat some spaghetti\, and let your kids have some fun on our apron with the squirt house\, Fire Department Fun House\, and see the fire trucks. This event is a free will doantion. See you there!
X-ALT-DESC;FMTTYPE=text/html:<span class="_4n-j _fbReactionComponent__eventDetailsContentTags fsl" data-testid="event-permalink-details">Our annual Spaghetti Feed Cook Off. This is an annual event to commemorate National Fire Prevention Week. This years theme for Fire Prevention Week is: &quot\;Every Second Counts! Plan 2 Ways Out&quot\;<br />\nWe encourage everyone to practice their home escape plan. Local businesses and vendors compete to see who gets voted as the favorite Spaghetti sauce. Stop down eat some spaghetti\, and let your kids have some fun on our apron with the squirt house\, Fire Department Fun House\, and see the fire trucks. This event is a free will doantion. See you there!</span>
LOCATION:Fergus Falls Fire Department 325 E Washington Ave\,\, Fergus Falls\,
UID:e.314.42647
SEQUENCE:3
DTSTAMP:20260424T091041Z
URL:https://business.fergusfalls.com/events/details/spaghetti-feed-fffd-42647
END:VEVENT

END:VCALENDAR
