BEGIN:VCALENDAR
VERSION:2.0
PRODID:-//ChamberMaster//Event Calendar 2.0//EN
METHOD:PUBLISH
X-PUBLISHED-TTL:P3D
REFRESH-INTERVAL:P3D
CALSCALE:GREGORIAN
BEGIN:VEVENT
DTSTART:20161207T150000Z
DTEND:20161207T230000Z
X-MICROSOFT-CDO-ALLDAYEVENT:FALSE
SUMMARY:Spangler Insurance & Real Estate Annual Open House
DESCRIPTION:Season's Greetings!\n\nSpangler Insurance Agency & Real Estate\n\nPlease join us in Celebrating the Holidays during our Annual Open House!\n\nCoffee\, Cider and Holiday Goodies will be served!\n\n2017 Calendars are available ad Sign up for Door Prizes.
X-ALT-DESC;FMTTYPE=text/html:Season&#39\;s Greetings!<br />\nSpangler Insurance Agency &amp\; Real Estate<br />\nPlease join us in Celebrating the Holidays during our Annual Open House!<br />\nCoffee\, Cider and Holiday Goodies will be served!<br />\n2017 Calendars are available ad Sign up for Door Prizes.<br />\n&nbsp\;
LOCATION:Spangler Insurance Agency & Real Estate 215 W Washington Ave Fergus Falls\, MN 56537 (218) 739-2233
UID:e.314.36982
SEQUENCE:3
DTSTAMP:20260425T022658Z
URL:https://business.fergusfalls.com/events/details/spangler-insurance-real-estate-annual-open-house-36982
END:VEVENT

END:VCALENDAR
