BEGIN:VCALENDAR
VERSION:2.0
PRODID:-//ChamberMaster//Event Calendar 2.0//EN
METHOD:PUBLISH
X-PUBLISHED-TTL:P3D
REFRESH-INTERVAL:P3D
CALSCALE:GREGORIAN
BEGIN:VEVENT
DTSTART;VALUE=DATE:20171205
DTEND;VALUE=DATE:20171208
TRANSP:TRANSPARENT
X-MICROSOFT-CDO-ALLDAYEVENT:TRUE
SUMMARY:Spangler Insurance & Real Estate Open House
DESCRIPTION:Please join us in Celebrating the Holidays during our Annual Open House\n\n\n\nMark Your Calendars - December 4-6th \n\n	Coffee\n	Cider\n	Holiday Cookies\n	Door Prize Drawing\n	2018 Calendars
X-ALT-DESC;FMTTYPE=text/html:<strong>Please join us in Celebrating the Holidays during our Annual Open House</strong><br />\n<br />\n<strong>Mark Your Calendars - December 4-6th </strong>\n<ul>\n	<li>Coffee</li>\n	<li>Cider</li>\n	<li>Holiday Cookies</li>\n	<li>Door Prize Drawing</li>\n	<li>2018 Calendars</li>\n</ul>\n
LOCATION:Spangler Insurance & Real Estate Washington Ave Fergus Falls\, MN
UID:e.314.43308
SEQUENCE:3
DTSTAMP:20260424T074252Z
URL:https://business.fergusfalls.com/events/details/spangler-insurance-real-estate-open-house-43308
END:VEVENT

END:VCALENDAR
