BEGIN:VCALENDAR
VERSION:2.0
PRODID:-//ChamberMaster//Event Calendar 2.0//EN
METHOD:PUBLISH
X-PUBLISHED-TTL:P3D
REFRESH-INTERVAL:P3D
CALSCALE:GREGORIAN
BEGIN:VEVENT
DTSTART:20170218T010000Z
DTEND:20170219T200000Z
X-MICROSOFT-CDO-ALLDAYEVENT:FALSE
SUMMARY:Spartan Hall of Fame!
DESCRIPTION:Spartan Hall of Fame!\n\n\n\nJoin Us In Honoring Ann Williams and Dave Retzlaff as they are inducted into the Spartan Hall of Fame!\n\n\n\nSchedule of Events\n\nFriday Feb. 17th\n\n7:00 PM - Meet and Greet at Z103 Bar & Grill\n\n\n\nSaturday\, Feb. 18th\n\nNoon to 4:00 PM - Chili Feed at the M State Cafeteria\n\n1:00 Pm - M State Women's Basketball Game vs. Rochester\n\nThere will be a short Hall of Fame program between games\n\n3:00 PM - M State Men's Basketball Game vs. Rochester\n\n5:30 PM - 7:00 PM - Bigwood Event Center:  Appetizers\, Cash Bar\n\n7:00 PM - Program and Hall of Fame Induction\n\n\n\nSunday\, Feb. 9th (Tenative)\n\n1:00 PM - "Old Time Sake" Alumni Games- Half Court Volleyball and/or Basketball\n\n\n\nTickets for Feb. 18th are $20/person.  The cost covers admission to the basketball chili feed and the reception at the Bigwood.\n\n\n\nRegistration RSVP Prior to Jan 23rd\, 2017
X-ALT-DESC;FMTTYPE=text/html:Spartan Hall of Fame!<br />\n<br />\nJoin Us In Honoring Ann Williams and Dave Retzlaff as they are inducted into the Spartan Hall of Fame!<br />\n<br />\nSchedule of Events<br />\nFriday Feb. 17th<br />\n7:00 PM - Meet and Greet at Z103 Bar &amp\; Grill<br />\n<br />\nSaturday\, Feb. 18th<br />\nNoon to 4:00 PM - Chili Feed at the M State Cafeteria<br />\n1:00 Pm - M State Women&#39\;s Basketball Game vs. Rochester<br />\nThere will be a short Hall of Fame program between games<br />\n3:00 PM - M State Men&#39\;s Basketball Game vs. Rochester<br />\n5:30 PM - 7:00 PM - Bigwood Event Center:&nbsp\; Appetizers\, Cash Bar<br />\n7:00 PM - Program and Hall of Fame Induction<br />\n<br />\nSunday\, Feb. 9th (Tenative)<br />\n1:00 PM - &quot\;Old Time Sake&quot\; Alumni Games- Half Court Volleyball and/or Basketball<br />\n<br />\nTickets for Feb. 18th are $20/person.&nbsp\; The cost covers admission to the basketball chili feed and the reception at the Bigwood.<br />\n<br />\nRegistration RSVP Prior to Jan 23rd\, 2017<br />\n&nbsp\;
LOCATION:
UID:e.314.38688
SEQUENCE:3
DTSTAMP:20260424T225618Z
URL:https://business.fergusfalls.com/events/details/spartan-hall-of-fame-38688
END:VEVENT

END:VCALENDAR
