BEGIN:VCALENDAR
VERSION:2.0
PRODID:-//ChamberMaster//Event Calendar 2.0//EN
METHOD:PUBLISH
X-PUBLISHED-TTL:P3D
REFRESH-INTERVAL:P3D
CALSCALE:GREGORIAN
BEGIN:VEVENT
DTSTART:20180905T150000Z
DTEND:20180905T190000Z
X-MICROSOFT-CDO-ALLDAYEVENT:FALSE
SUMMARY:Spartan Wellness Day
DESCRIPTION:The Spartan Wellness Day Committee\, M State Office of Housing and Residential Life\, and the Spartans Living Well Coalition invite wellness and health-oriented businesses and organizations to be a part of Spartan Wellness Day 2018. This year's theme is "Creating a Culture of Wellness." \n\nPlease plan to join us from 10 a.m. to 2 p.m. Wednesday\, September 5\, 2018 for Spartan Wellness Day. This event will offer holistic activities that emphasize health\, wellness\, stress reduction and stress management. Share your expertise with students and employees through hands-on\, experiential activities that give people the chance to engage in intentional whole-person wellness. \n\nWhat do we mean by wellness activities? For example: \n\n?h Are you a masseuse who could offer five-minute massages? \n\n?h Do you have self-care tips and tricks that can be taught in a few minutes? \n\n?h If you are artistic\, could you lead a creative expression activity of some sort? \n\n?h How about healthy eating? Are you a nutritionist\, cook or restaurant owner with simple healthy recipes that you could prepare and offer as samples? \n\n?h Are you a chiropractor\, mental health or physical health practitioner/clinician who could offer a complimentary health screening or assessment? \n\n?h Would you like to run an activity station such as bean bags\, jumbo Jenga or bounce house? \n\n?h Are you a financial planner/organization with activities that can help participants focus on financial health? \n\n?h Are you an educator\, provider who can inform and host activities regarding occupational and or environmental health and wellness? \n\nIf you're unable to sponsor an activity\, please consider donating prizes for drawings   prizes such as a monthly or annual fitness membership\; gift certificate for massages\, golf\, movies or food\; or a Fitbit\, bike or other fitness or health-related item. Spartan Wellness Day is a chance to: \n\n?h Introduce and promote your wellness services to M State students and staff \n\n?h Offer student discounts \n\n?h Raise awareness of community resources for health and wellness \n\nGet Involved \n\nIf you plan to help \n\nCreate a Culture of Wellness at M State\, please complete the Spartan Wellness Day Sponsor/Donation/Volunteer form online here (https://minnesota.az1.qualtrics.com/jfe/form/SV_5ipSgwTmRFxEfmB). \n\nFeel free to contact any committee member if you have questions. To discuss logistics of the event\, please email Victoria.McWane-Creek@minnesota.edu or call (218) 736-1635. \n\nWe look forward to learning which Spartan Wellness Day activity you will sponsor by August 15\, or receiving your prize donation by August 27. \n\nIn health! \n\nSpartan Wellness Day Committee 2018
X-ALT-DESC;FMTTYPE=text/html:<p align="LEFT">&nbsp\;</p>\n\n<p><font size="3">The Spartan Wellness Day Committee\, M State Office of Housing and Residential Life\, and the Spartans Living Well Coalition invite wellness and health-oriented businesses and organizations to be a part of </font><b><font face="Calibri\,Calibri" size="3"><font face="Calibri\,Calibri" size="3">Spartan Wellness Day 2018</font></font></b><font size="3">. This year&rsquo\;s theme is &quot\;Creating a Culture of Wellness.&quot\; </font></p>\n\n<p><font size="3">Please plan to join us from <b><i><font face="Calibri\,Calibri" size="3"><font face="Calibri\,Calibri" size="3">10 a.m. to 2 p.m. Wednesday</font></font></i></b><font size="3">\, September 5\, 2018 for </font><b><font face="Calibri\,Calibri" size="3"><font face="Calibri\,Calibri" size="3">Spartan Wellness Day</font></font></b><font size="3">. This event will offer holistic activities that emphasize health\, wellness\, stress reduction and stress management. Share your expertise with students and employees through hands-on\, experiential activities that give people the chance to engage in intentional whole-person wellness. </font></font></p>\n\n<p><i><font face="Calibri\,Calibri" size="3"><font face="Calibri\,Calibri" size="3">What do we mean by wellness activities<font size="3">? For example: </font></font></font></i></p>\n\n<p><font size="3">?h Are you a masseuse who could offer five-minute massages? </font></p>\n\n<p><font size="3">?h Do you have self-care tips and tricks that can be taught in a few minutes? </font></p>\n\n<p><font size="3">?h If you are artistic\, could you lead a creative expression activity of some sort? </font></p>\n\n<p><font size="3">?h How about healthy eating? Are you a nutritionist\, cook or restaurant owner with simple healthy recipes that you could prepare and offer as samples? </font></p>\n\n<p><font size="3">?h Are you a chiropractor\, mental health or physical health practitioner/clinician who could offer a complimentary health screening or assessment? </font></p>\n\n<p><font size="3">?h Would you like to run an activity station such as bean bags\, jumbo Jenga or bounce house? </font></p>\n\n<p><font size="3">?h Are you a financial planner/organization with activities that can help participants focus on financial health? </font></p>\n\n<p><font size="3">?h Are you an educator\, provider who can inform and host activities regarding occupational and or environmental health and wellness? </font></p>\n\n<p><font size="3">If you&rsquo\;re unable to sponsor an activity\, please consider donating prizes for drawings &ndash\; prizes such as a monthly or annual fitness membership\; gift certificate for massages\, golf\, movies or food\; or a Fitbit\, bike or other fitness or health-related item. Spartan Wellness Day is a chance to: </font></p>\n\n<p><font size="3">?h Introduce and promote your wellness services to M State students and staff </font></p>\n\n<p><font size="3">?h Offer student discounts </font></p>\n\n<p><font size="3">?h Raise awareness of community resources for health and wellness </font></p>\n\n<p><b><font face="Calibri\,Calibri" size="3"><font face="Calibri\,Calibri" size="3">Get Involved </font></font></b></p>\n\n<p><font size="3">If you plan to help </font></p>\n\n<p><i><font face="Calibri\,Calibri" size="3"><font face="Calibri\,Calibri" size="3">Create a Culture of Wellness </font></font></i><font size="3">at M State\, please complete the Spartan Wellness Day Sponsor/Donation/Volunteer form online <a href="http://minnesota.az1.qualtrics.com/jfe/form/SV_5ipSgwTmRFxEfmB">here (https://minnesota.az1.qualtrics.com/jfe/form/SV_5ipSgwTmRFxEfmB). </a></font></p>\n\n<p><font size="3">Feel free to contact any committee member if you have questions. To discuss logistics of the event\, please email Victoria.McWane-Creek@minnesota.edu or call (218) 736-1635. </font></p>\n\n<p><font size="3">We look forward to learning which Spartan Wellness Day activity you will sponsor by August 15\, or receiving your prize donation by August 27. </font></p>\n\n<p><i><font face="Calibri\,Calibri" size="3"><font face="Calibri\,Calibri" size="3">In health! </font></font></i></p>\n\n<p><font size="3">Spartan Wellness Day Committee 2018 </font></p>\n
LOCATION:
UID:e.314.50286
SEQUENCE:3
DTSTAMP:20260423T164951Z
URL:https://business.fergusfalls.com/events/details/spartan-wellness-day-50286
END:VEVENT

END:VCALENDAR
