BEGIN:VCALENDAR
VERSION:2.0
PRODID:-//ChamberMaster//Event Calendar 2.0//EN
METHOD:PUBLISH
X-PUBLISHED-TTL:P3D
REFRESH-INTERVAL:P3D
CALSCALE:GREGORIAN
BEGIN:VEVENT
DTSTART:20190120T010000Z
DTEND:20190120T030000Z
X-MICROSOFT-CDO-ALLDAYEVENT:FALSE
SUMMARY:"Speaking Filley-Sophically"
DESCRIPTION:Stand-up comedian Chad Filley's one person show\, Speaking Filley-Sophically\, consisting of hilarious stories from the Minnesotans life\, has brought recent comparisons to Billy Crystal's 700 Sundays. This show which blends comedic tales with heartwrenching stories in booking shows for Winter 2018 and all of 2019.\n\nSome of Chad's unforgettable stories include walking into the wrong delivery room at the maternity ward\, suffering as his wife made a Sophie's Choice whether to bring him or her oversized canister of hairspray on a flight\, and his claim of being the only person to ever twerk on the stage of the Grand Ole Opry during a show.\n\nThis can't-miss show\, the product of a year-long mentorship with world-renowned storyteller/playwright Kevin Kling includes stories that will tug at your heart while others will make you laugh out loud.\n\nSpeaking Filley-Sophically\, which debuted with a weekend run last April at the Cabaret @ Camp Theater in St Paul\, MN was an overwhelming success including a sellout performance!
X-ALT-DESC;FMTTYPE=text/html:<p style="box-sizing: border-box\; -webkit-tap-highlight-color: transparent\; margin: 0px 0px 10px\; color: rgb(102\, 102\, 102)\; font-family: Cabin\, Helvetica\, Arial\, Lucida\, sans-serif\; font-size: 14px\;">Stand-up comedian Chad Filley&rsquo\;s one person show\, Speaking Filley-Sophically\, consisting of hilarious stories from the Minnesotans life\, has brought recent comparisons to Billy Crystal&rsquo\;s 700 Sundays. This show which blends comedic tales with heartwrenching stories in booking shows for Winter 2018 and all of 2019.</p>\n\n<p style="box-sizing: border-box\; -webkit-tap-highlight-color: transparent\; margin: 0px 0px 10px\; color: rgb(102\, 102\, 102)\; font-family: Cabin\, Helvetica\, Arial\, Lucida\, sans-serif\; font-size: 14px\;">Some of Chad&rsquo\;s unforgettable stories include walking into the wrong delivery room at the maternity ward\, suffering as his wife made a Sophie&rsquo\;s Choice whether to bring him or her oversized canister of hairspray on a flight\, and his claim of being the only person to ever twerk on the stage of the Grand Ole Opry during a show.</p>\n\n<p style="box-sizing: border-box\; -webkit-tap-highlight-color: transparent\; margin: 0px 0px 10px\; color: rgb(102\, 102\, 102)\; font-family: Cabin\, Helvetica\, Arial\, Lucida\, sans-serif\; font-size: 14px\;">This can&rsquo\;t-miss show\, the product of a year-long mentorship with world-renowned storyteller/playwright Kevin Kling includes stories that will tug at your heart while others will make you laugh out loud.</p>\n\n<p style="box-sizing: border-box\; -webkit-tap-highlight-color: transparent\; margin: 0px 0px 10px\; color: rgb(102\, 102\, 102)\; font-family: Cabin\, Helvetica\, Arial\, Lucida\, sans-serif\; font-size: 14px\;">Speaking Filley-Sophically\, which debuted with a weekend run last April at the Cabaret @ Camp Theater in St Paul\, MN was an overwhelming success including a sellout performance!</p>\n
LOCATION:A Center for the Arts Downtown Fergus Falls
UID:e.314.52270
SEQUENCE:3
DTSTAMP:20260423T105211Z
URL:https://business.fergusfalls.com/events/details/speaking-filley-sophically-52270
END:VEVENT

END:VCALENDAR
