BEGIN:VCALENDAR
VERSION:2.0
PRODID:-//ChamberMaster//Event Calendar 2.0//EN
METHOD:PUBLISH
X-PUBLISHED-TTL:P3D
REFRESH-INTERVAL:P3D
CALSCALE:GREGORIAN
BEGIN:VEVENT
DTSTART:20190512T160000Z
DTEND:20190513T020000Z
X-MICROSOFT-CDO-ALLDAYEVENT:FALSE
SUMMARY:Special menu @ Ten Mile Lake Resort - Mother’s Day
DESCRIPTION:Mother's Day SPECIAL\n\nMENU 11am-9pm\n\n  Broasted Chicken\n\n  Prime Rib   BBQ Ribs\n\n  Fried Shrimp   7 oz. Sirloin\n\n  Ribeye Steak w/Parmesan\n\nGarlic Shrimp & Many More Delicious Items\n\nMoms Get Free Dessert!\n\nCall For Reservations 218-589-8845
X-ALT-DESC;FMTTYPE=text/html:<p align="LEFT"><span style="color: rgb(0\, 0\, 0)\;"><span style="font-size: 14px\;"><b><font face="Aachen-Bold"><font face="Aachen-Bold"><font face="Aachen-Bold">Mother&rsquo\;s Day <span style="color: rgb(0\, 0\, 0)\;"><span style="font-size: 14px\;"><b><font face="Aachen-Bold"><font face="Aachen-Bold"><font face="Aachen-Bold">SPECIAL</font></font></font></b></span></span></font></font></font></b></span></span></p>\n\n<p align="LEFT"><span style="color: rgb(0\, 0\, 0)\;"><span style="font-size: 14px\;"><b><font face="Aachen-Bold"><font face="Aachen-Bold"><font face="Aachen-Bold">MENU 11am-9pm</font></font></font></b></span></span></p>\n\n<p align="LEFT"><span style="color: rgb(0\, 0\, 0)\;"><span style="font-size: 14px\;"><font face="ArialMT"><font face="ArialMT"><font face="ArialMT">&bull\; Broasted Chicken</font></font></font></span></span></p>\n\n<p align="LEFT"><span style="color: rgb(0\, 0\, 0)\;"><span style="font-size: 14px\;"><font face="ArialMT"><font face="ArialMT"><font face="ArialMT">&bull\; Prime Rib &bull\; BBQ Ribs</font></font></font></span></span></p>\n\n<p align="LEFT"><span style="color: rgb(0\, 0\, 0)\;"><span style="font-size: 14px\;"><font face="ArialMT"><font face="ArialMT"><font face="ArialMT">&bull\; Fried Shrimp &bull\; 7 oz. Sirloin</font></font></font></span></span></p>\n\n<p align="LEFT"><span style="color: rgb(0\, 0\, 0)\;"><span style="font-size: 14px\;"><font face="ArialMT"><font face="ArialMT"><font face="ArialMT">&bull\; Ribeye Steak w/Parmesan</font></font></font></span></span></p>\n\n<p align="LEFT"><span style="color: rgb(0\, 0\, 0)\;"><span style="font-size: 14px\;"><font face="ArialMT"><font face="ArialMT"><font face="ArialMT">Garlic Shrimp &amp\; <span style="color: rgb(0\, 0\, 0)\;"><span style="font-size: 14px\;"><font face="ArialMT"><font face="ArialMT"><font face="ArialMT">Many More Delicious Items</font></font></font></span></span></font></font></font></span></span></p>\n\n<p align="LEFT"><span style="color: rgb(0\, 0\, 0)\;"><span style="font-size: 14px\;"><font face="FreestyleScriptPlain"><font face="FreestyleScriptPlain"><font face="FreestyleScriptPlain">Moms Get Free Dessert!</font></font></font></span></span></p>\n\n<p><span style="color: rgb(0\, 0\, 0)\;"><span style="font-size: 14px\;"><font face="FreestyleScriptPlain"><font face="FreestyleScriptPlain"><font face="FreestyleScriptPlain">Call For Reservations 218-589-8845</font></font></font></span></span></p>\n
LOCATION:
UID:e.314.53933
SEQUENCE:3
DTSTAMP:20260423T050726Z
URL:https://business.fergusfalls.com/events/details/special-menu-ten-mile-lake-resort-mother-s-day-53933
END:VEVENT

END:VCALENDAR
