BEGIN:VCALENDAR
VERSION:2.0
PRODID:-//ChamberMaster//Event Calendar 2.0//EN
METHOD:PUBLISH
X-PUBLISHED-TTL:P3D
REFRESH-INTERVAL:P3D
CALSCALE:GREGORIAN
BEGIN:VEVENT
DTSTART:20190212T003000Z
DTEND:20190212T013000Z
X-MICROSOFT-CDO-ALLDAYEVENT:FALSE
SUMMARY:Special Olympics (Ages 18 & Older) - Basketball
DESCRIPTION:Instructor:  Janet Grulke\n\n\n\nAGES 18 AND OLDER - Be a part of the Fergus Falls Special Olympics Community team (F.F.C.) New athletes need to complete forms found online at Special Olympics Minnesota under "Forms" prior to first meet/practice. If you have questions\, call Kate Walz at 952-913-8869 or Janet Grulke at 218-739-4603. Practice begins Monday\, January 28\, 2019 from 6:30 p.m. to 7:30 p.m. and continues February 4\, 11\, 25\, March 4\, 11\, 18\, 25\, April 1\, 8 15\, and 22\, 2019. The area meet will be in Fergus Falls in April\, 2019 at a date to be determined.
X-ALT-DESC;FMTTYPE=text/html:Instructor: &nbsp\;Janet Grulke<br />\n<br />\nAGES 18 AND OLDER - Be a part of the Fergus Falls Special Olympics Community team (F.F.C.) New athletes need to complete forms found online at Special Olympics Minnesota under &quot\;Forms&quot\; prior to first meet/practice. If you have questions\, call Kate Walz at 952-913-8869 or Janet Grulke at 218-739-4603. Practice begins Monday\, January 28\, 2019 from 6:30 p.m. to 7:30 p.m. and continues February 4\, 11\, 25\, March 4\, 11\, 18\, 25\, April 1\, 8 15\, and 22\, 2019. The area meet will be in Fergus Falls in April\, 2019 at a date to be determined.
LOCATION:Kennedy Secondary School - Gold Gym\, 601 Randolph Ave.\, Fergus Falls
UID:e.314.52282
SEQUENCE:3
DTSTAMP:20260423T093920Z
URL:https://business.fergusfalls.com/events/details/special-olympics-ages-18-older-basketball-02-11-2019-52282
END:VEVENT

END:VCALENDAR
