BEGIN:VCALENDAR
VERSION:2.0
PRODID:-//ChamberMaster//Event Calendar 2.0//EN
METHOD:PUBLISH
X-PUBLISHED-TTL:P3D
REFRESH-INTERVAL:P3D
CALSCALE:GREGORIAN
BEGIN:VEVENT
DTSTART:20180512T130000Z
DTEND:20180512T160000Z
X-MICROSOFT-CDO-ALLDAYEVENT:FALSE
SUMMARY:Special Olympics Fun Run
DESCRIPTION:Announcements 8:30 am 1 Mile Run/Walk 8:45 am 5-K 9:15 am The SO Fun Run is a fundraiser for the Fergus Falls Junior Special Olympics Team.
X-ALT-DESC;FMTTYPE=text/html:Announcements 8:30 am 1 Mile Run/Walk 8:45 am 5-K 9:15 am The SO Fun Run is a fundraiser for the Fergus Falls Junior Special Olympics Team.
LOCATION:M State - Fergus Falls Campus
UID:e.314.47715
SEQUENCE:3
DTSTAMP:20260423T235121Z
URL:https://business.fergusfalls.com/events/details/special-olympics-fun-run-47715
END:VEVENT

END:VCALENDAR
