BEGIN:VCALENDAR
VERSION:2.0
PRODID:-//ChamberMaster//Event Calendar 2.0//EN
METHOD:PUBLISH
X-PUBLISHED-TTL:P3D
REFRESH-INTERVAL:P3D
CALSCALE:GREGORIAN
BEGIN:VEVENT
DTSTART:20190408T233000Z
DTEND:20190409T003000Z
X-MICROSOFT-CDO-ALLDAYEVENT:FALSE
SUMMARY:Special Olympics (Track and Field)
DESCRIPTION:Instructor: Janet Grulke\n\n\n\nPractice begins March 25\, 2019 and continues April 1\, 8\, 15\, 22\, 29\, May 6\, 13 from 6:30 p.m. to 7:30 p.m. at Kennedy Secondary School Gold Gym. Be part of the fun!
X-ALT-DESC;FMTTYPE=text/html:Instructor: Janet Grulke<br>\n<br>\nPractice begins March 25\, 2019 and continues April 1\, 8\, 15\, 22\, 29\, May 6\, 13 from 6:30 p.m. to 7:30 p.m. at Kennedy Secondary School Gold Gym. Be part of the fun!
LOCATION:Kennedy Secondary School - Gold Gym\, 601 Randolph Avenue\, Fergus Falls
UID:e.314.52662
SEQUENCE:3
DTSTAMP:20260423T075749Z
URL:https://business.fergusfalls.com/events/details/special-olympics-track-and-field-04-08-2019-52662
END:VEVENT

END:VCALENDAR
