BEGIN:VCALENDAR
VERSION:2.0
PRODID:-//ChamberMaster//Event Calendar 2.0//EN
METHOD:PUBLISH
X-PUBLISHED-TTL:P3D
REFRESH-INTERVAL:P3D
CALSCALE:GREGORIAN
BEGIN:VEVENT
DTSTART;VALUE=DATE:20190910
DTEND;VALUE=DATE:20190915
TRANSP:TRANSPARENT
X-MICROSOFT-CDO-ALLDAYEVENT:TRUE
SUMMARY:Speedway Motors Wissota 100 2019
DESCRIPTION:The Speedway Motors WISSOTA 100 is the premier Dirt Track Racing event in the upper Midwest. You'll be surrounded by non-stop action with some of the nation's fastest drivers and cars. With over 100 races across 8 divisions\, the WISSOTA 100 is a can't miss event.
X-ALT-DESC;FMTTYPE=text/html:<div class="_63ew" data-testid="event-permalink-details"><span>The Speedway Motors WISSOTA 100 is the premier Dirt Track Racing event in the upper Midwest. You&rsquo\;ll be surrounded by non-stop action with some of the nation&rsquo\;s fastest drivers and cars. With over 100 races across 8 divisions\, the WISSOTA 100 is a can&rsquo\;t miss event.</span></div>\n
LOCATION:I-94 Speedway Fergus Falls 2001 W Fir Ave\, Fergus Falls\, Minnesota 56537
UID:e.314.54583
SEQUENCE:3
DTSTAMP:20260422T222657Z
URL:https://business.fergusfalls.com/events/details/speedway-motors-wissota-100-2019-54583
END:VEVENT

END:VCALENDAR
