BEGIN:VCALENDAR
VERSION:2.0
PRODID:-//ChamberMaster//Event Calendar 2.0//EN
METHOD:PUBLISH
X-PUBLISHED-TTL:P3D
REFRESH-INTERVAL:P3D
CALSCALE:GREGORIAN
BEGIN:VEVENT
DTSTART:20180403T000000Z
DTEND:20180403T010000Z
X-MICROSOFT-CDO-ALLDAYEVENT:FALSE
SUMMARY:Spies\, Serendipity and Spunky Norwegian Girls with Margi Preus
DESCRIPTION:Fergus Falls native\, Newbery Honor and New York Times Bestselling author Margi Preus will discuss the extensive research and historical background behind her books. She will focus on Norwegian immigration and folklore from "West of the Moon" and the occupation of Norway and resistance activities during World War II featured in "Shadow on the Mountain". This project was funded in part or in whole with money from Minnesota's Arts and Cultural Heritage fund. It is sponsored by Fergus Falls Public Library and Viking Library System in partnership with Sons of Norway and Community Education.
X-ALT-DESC;FMTTYPE=text/html:Fergus Falls native\, Newbery Honor and New York Times Bestselling author Margi Preus will discuss the extensive research and historical background behind her books. She will focus on Norwegian immigration and folklore from &quot\;West of the Moon&quot\; and the occupation of Norway and resistance activities during World War II featured in &quot\;Shadow on the Mountain&quot\;. This project was funded in part or in whole with money from Minnesota&rsquo\;s Arts and Cultural Heritage fund. It is sponsored by Fergus Falls Public Library and Viking Library System in partnership with Sons of Norway and Community Education.
LOCATION:Kennedy Secondary School Auditorium
UID:e.314.43926
SEQUENCE:3
DTSTAMP:20260424T000225Z
URL:https://business.fergusfalls.com/events/details/spies-serendipity-and-spunky-norwegian-girls-with-margi-preus-43926
END:VEVENT

END:VCALENDAR
