BEGIN:VCALENDAR
VERSION:2.0
PRODID:-//ChamberMaster//Event Calendar 2.0//EN
METHOD:PUBLISH
X-PUBLISHED-TTL:P3D
REFRESH-INTERVAL:P3D
CALSCALE:GREGORIAN
BEGIN:VEVENT
DTSTART:20191026T230000Z
DTEND:20191027T010000Z
X-MICROSOFT-CDO-ALLDAYEVENT:FALSE
SUMMARY:Spook-o-rama! Pumpkin painting candy & more!
DESCRIPTION:Spook-o-rama! \n\n\n\nPumpkin painting\, candy\, and hair-raising deals! \n\nAll supplies provided\, including beverages and snacks. \n\n\n\n- FREE Tab A (with 2 year activation)\n\n- $29.99 off a Gizmowatch \n\n\n\nOct 26\, 2019\n\n6-8 PM
X-ALT-DESC;FMTTYPE=text/html:<strong><span style="font-size: 18px\;">Spook-o-rama! </span><br />\n<br />\n<span style="color: rgb(255\, 165\, 0)\;">Pumpkin painting\, candy\, and hair-raising deals! </span><br />\nAll supplies provided\, including beverages and snacks.&nbsp\;<br />\n<br />\n- FREE Tab A (with 2 year activation)<br />\n- $29.99 off a Gizmowatch </strong><br />\n<br />\n<strong>Oct 26\, 2019<br />\n6-8 PM </strong>
LOCATION:BEMOBILE VERIZON - Fergus Falls 409 W LINCOLN AVE FERGUS FALLS\, MN
UID:e.314.54802
SEQUENCE:3
DTSTAMP:20260422T222713Z
URL:https://business.fergusfalls.com/events/details/spook-o-rama-pumpkin-painting-candy-more-54802
END:VEVENT

END:VCALENDAR
