BEGIN:VCALENDAR
VERSION:2.0
PRODID:-//ChamberMaster//Event Calendar 2.0//EN
METHOD:PUBLISH
X-PUBLISHED-TTL:P3D
REFRESH-INTERVAL:P3D
CALSCALE:GREGORIAN
BEGIN:VEVENT
DTSTART:20180407T150000Z
DTEND:20180428T163000Z
X-MICROSOFT-CDO-ALLDAYEVENT:FALSE
SUMMARY:Spring Kaddatz Kidz Series
DESCRIPTION:The Spring Kaddatz Kidz art series is made up of fundamental art classes designed for kids aged K-3rd grade and taught by local artists. The classes will take place on Saturdays from 10-noon in our Studio K for the entire month of April! Each individual session is $15 or register for all 4 for $50! Call Kaddatz Galleries @ 218.998.4405 or register online @ https://kaddatzgalleries.org/get-involved/workshops-events/
X-ALT-DESC;FMTTYPE=text/html:<span class="_4n-j _fbReactionComponent__eventDetailsContentTags fsl" data-testid="event-permalink-details">The Spring Kaddatz Kidz art series is made up of fundamental art classes designed for kids aged K-3rd grade and taught by local artists. The classes will take place on Saturdays from 10-noon in our Studio K for the entire month of April! Each individual session is $15 or register for all 4 for $50! Call Kaddatz Galleries @ 218.998.4405 or register online @ <a data-lynx-mode="hover" data-lynx-uri="https://l.facebook.com/l.php?u=https%3A%2F%2Fkaddatzgalleries.org%2Fget-involved%2Fworkshops-events%2F&amp\;h=ATNaKgRlyTfvyTgLz-jqT2ut0jcapsbTwPXMvIZySaXOjbditb6AFLeIICAs08QS7-KnrNwywjxzFD0NoIgMAZZYQqUw7w-kQoFtDT4Su_7gyJpZHQ" href="https://kaddatzgalleries.org/get-involved/workshops-events/" rel="nofollow" target="_blank"><font color="#0066cc"><span>https://</span><wbr /><span>kaddatzgalleries.org/</span><wbr /><span>get-involved/</span><wbr /></font><font color="#0066cc">workshops-events/</font></a></span>
LOCATION:
UID:e.314.47419
SEQUENCE:3
DTSTAMP:20260423T235213Z
URL:https://business.fergusfalls.com/events/details/spring-kaddatz-kidz-series-47419
END:VEVENT

END:VCALENDAR
