BEGIN:VCALENDAR
VERSION:2.0
PRODID:-//ChamberMaster//Event Calendar 2.0//EN
METHOD:PUBLISH
X-PUBLISHED-TTL:P3D
REFRESH-INTERVAL:P3D
CALSCALE:GREGORIAN
BEGIN:VEVENT
DTSTART;VALUE=DATE:20170309
DTEND;VALUE=DATE:20170312
TRANSP:TRANSPARENT
X-MICROSOFT-CDO-ALLDAYEVENT:TRUE
SUMMARY:Spring Market Days
DESCRIPTION:Drawings Daily\, Promotions\, Events each day\, Delicious Samples\, Stumbeanos coffee tasting and waffle bar with Jenny\, PoppySeed chair massages with Molly\, Spring Decorating Demos with Cindy & Nancy\, Staff Favorites from our Bath Section...New Spring Scents!\n\nWatch FB/Twitter/Instagram for Schedule of Events!\n\n\n	Shopping\n	Free Admission
X-ALT-DESC;FMTTYPE=text/html:<span class="_4n-j _fbReactionComponent__eventDetailsContentTags fsl" data-testid="event-permalink-details">Drawings Daily\, Promotions\, Events each day\, Delicious Samples\, Stumbeanos coffee tasting and waffle bar with Jenny\, PoppySeed chair massages with Molly\, Spring Decorating Demos with Cindy &amp\; Nancy\, Staff Favorites from our Bath Section...New Spring Scents!<br />\nWatch FB/Twitter/Instagram for Schedule of Events!</span>\n<div class="_1r51">\n<ul class="uiList uiCollapsedList uiCollapsedListHidden _509- _4ki" id="u_ah_c">\n	<li><span class="_1r50">Shopping</span></li>\n	<li><span class="_1r50">Free Admission</span></li>\n</ul>\n</div>\n
LOCATION:The Market 120 S Union Ave\, Fergus Falls\, Minnesota 56537
UID:e.314.38811
SEQUENCE:3
DTSTAMP:20260424T224649Z
URL:https://business.fergusfalls.com/events/details/spring-market-days-38811
END:VEVENT

END:VCALENDAR
