BEGIN:VCALENDAR
VERSION:2.0
PRODID:-//ChamberMaster//Event Calendar 2.0//EN
METHOD:PUBLISH
X-PUBLISHED-TTL:P3D
REFRESH-INTERVAL:P3D
CALSCALE:GREGORIAN
BEGIN:VEVENT
DTSTART:20180407T150000Z
DTEND:20180407T190000Z
X-MICROSOFT-CDO-ALLDAYEVENT:FALSE
SUMMARY:Spring Open Door Saturday Features a Sensory-Friendly Museum
DESCRIPTION:The Otter Tail County Historical Society is providing opportunities to enjoy the museum galleries on select Saturdays each month. Open hours are from 10am-2pm. The regular museum admission is $5 for ages 12 to adult and $2 for ages 5 to 11.\n\n\n\nApril 7 - Sensory-Friendly Museum\n\nA Saturday dedicated to community folks and their families on the Autism Spectrum or other non-neurotypical museum lovers. With lower light and sound levels\, the galleries are a calm place to visit. Visitors can make an "Otter Tail 150" art project or try to find the artifacts in a gallery scavenger hunt. A safe room will be available as well.\n\n\n\nFor more information\, email mhermes@otchs.org.
X-ALT-DESC;FMTTYPE=text/html:<span class="_4n-j _fbReactionComponent__eventDetailsContentTags fsl" data-testid="event-permalink-details">The Otter Tail County Historical Society is providing opportunities to enjoy the museum galleries on select Saturdays each month. Open hours are from 10am-2pm. The regular museum admission is $5 for ages 12 to adult and $2 for ages 5 to 11.<br />\n<br />\nApril 7 - Sensory-Friendly Museum<br />\nA Saturday dedicated to community folks and their families on the Autism Spectrum or other non-neurotypical museum lovers. With lower light and sound levels\, the galleries are a calm place to visit. Visitors can make an &quot\;Otter Tail 150&quot\; art project or try to find the artifacts in a gallery scavenger hunt. A safe room will be available as well.<br />\n<br />\nFor more information\, email mhermes@otchs.org.</span>
LOCATION:Otter Tail County Historical Society 1110 W Lincoln Ave\, Fergus Falls
UID:e.314.44937
SEQUENCE:3
DTSTAMP:20260423T235347Z
URL:https://business.fergusfalls.com/events/details/spring-open-door-saturday-features-a-sensory-friendly-museum-44937
END:VEVENT

END:VCALENDAR
