BEGIN:VCALENDAR
VERSION:2.0
PRODID:-//ChamberMaster//Event Calendar 2.0//EN
METHOD:PUBLISH
X-PUBLISHED-TTL:P3D
REFRESH-INTERVAL:P3D
CALSCALE:GREGORIAN
BEGIN:VEVENT
DTSTART:20160305T150000Z
DTEND:20160305T200000Z
X-MICROSOFT-CDO-ALLDAYEVENT:FALSE
SUMMARY:Spring Vendor Blender & Craft Show
DESCRIPTION:Come out and join us this March at the 2016 Spring Vendor Blender! We are hosting a HUGE assortment of home based businesses for your shopping pleasure. From makeup and books to cleaning and cooks there will be something here for everyone! Admission is free and you won't leave empty-handed. Come check us out on March 5th\, where we have a ton of vendors already signed up and there's always room for more! Come hungry though\, because we will have concessions available throughout the day!\n\n\n\nOur vendor lineup continues to grow every day\, but currently we have the following businesses:\n\n\n\n\n\nBigwood Event Center\n\nJR Watkins\n\nMary Kay\n\nNerium AD\n\nNorwex\n\nOrigami Owl\n\nTastefully Simple\n\nUsbourne Books & More\n\nZ103 Bar & Grill
X-ALT-DESC;FMTTYPE=text/html:<span class="fsl">Come out and join us this March at the 2016 Spring Vendor Blender! We are hosting a HUGE assortment of home based businesses for your shopping pleasure. From makeup and books to cleaning and cooks there will be something here for everyone! Admission is free and you won&#39\;t leave empty-handed. Come check us out on March 5th\, where we have a ton of vendors already signed up and there&#39\;s always room for more! Come hungry though\, because we will have concessions available throughout the day!<br />\n<br />\nOur vendor lineup continues to grow every day\, but currently we have the following businesses:<br />\n<br />\n<br />\nBigwood Event Center<br />\nJR Watkins<br />\nMary Kay<br />\nNerium AD<br />\nNorwex<br />\nOrigami Owl<br />\nTastefully Simple<br />\nUsbourne Books &amp\; More<br />\nZ103 Bar &amp\; Grill</span>
LOCATION:Best Western & Bigwood Event Center 925 Western Ave\, Fergus Falls\, Minnesota 56537
UID:e.314.31068
SEQUENCE:3
DTSTAMP:20260425T195757Z
URL:https://business.fergusfalls.com/events/details/spring-vendor-blender-craft-show-03-05-2016-31068
END:VEVENT

END:VCALENDAR
