BEGIN:VCALENDAR
VERSION:2.0
PRODID:-//ChamberMaster//Event Calendar 2.0//EN
METHOD:PUBLISH
X-PUBLISHED-TTL:P3D
REFRESH-INTERVAL:P3D
CALSCALE:GREGORIAN
BEGIN:VEVENT
DTSTART;VALUE=DATE:20210815
DTEND;VALUE=DATE:20210816
TRANSP:TRANSPARENT
X-MICROSOFT-CDO-ALLDAYEVENT:TRUE
SUMMARY:St. Elizabeth Catholic church 35th annual PorkOut
DESCRIPTION:St. Elizabeth Church Annual Porkout Fun day with an outdoor mass at 10:00 am Serving slow roasted pork on the spit\, with all the trimmings and fresh garden vegetables from 11:00 am-1:30pm $10.00 per person 5-10 yrs $5:00 5 under free Kid and adult Games\, Silent Auction\,Bingo\, country store\, beer & pop garden from 11:00 am-3:00pm. Raffle drawing at 3:00 pm
X-ALT-DESC;FMTTYPE=text/html:St. Elizabeth Church Annual Porkout Fun day with an outdoor mass at 10:00 am Serving slow roasted pork on the spit\, with all the trimmings and fresh garden vegetables from 11:00 am-1:30pm $10.00 per person 5-10 yrs $5:00 5 under free Kid and adult Games\, Silent Auction\,Bingo\, country store\, beer &amp\; pop garden from 11:00 am-3:00pm. Raffle drawing at 3:00 pm
LOCATION:St. Elizabeth Catholic Church 706 W. Pleasant Ave Elizabeth\,Mn
UID:e.314.63340
SEQUENCE:3
DTSTAMP:20260421T101328Z
URL:https://business.fergusfalls.com/events/details/st-elizabeth-catholic-church-35th-annual-porkout-63340
END:VEVENT

END:VCALENDAR
