BEGIN:VCALENDAR
VERSION:2.0
PRODID:-//ChamberMaster//Event Calendar 2.0//EN
METHOD:PUBLISH
X-PUBLISHED-TTL:P3D
REFRESH-INTERVAL:P3D
CALSCALE:GREGORIAN
BEGIN:VEVENT
DTSTART:20191102T150000Z
DTEND:20191102T210000Z
X-MICROSOFT-CDO-ALLDAYEVENT:FALSE
SUMMARY:St. Cathrine's Day Open House
DESCRIPTION:Come join Tangles to Treasures and the Fergus Falls Lacemaker's Guild as we celebrate the fiber arts. This is a fun and informal day of community and sharing. Come in to visit\,shop or bring a project to work on. Spend part or all of the day with us. We will be weaving\, spinning\, knitting\, making bobbin lace\, and more! Observers welcome\, and questions answered.  Light refreshments will be available. Fun for all ages!
X-ALT-DESC;FMTTYPE=text/html:Come join Tangles to Treasures and the Fergus Falls Lacemaker&#39\;s Guild as we celebrate the fiber arts. This is a fun and informal day of community and sharing. Come in to visit\,shop or bring a project to work on. Spend part or all of the day with us. We will be weaving\, spinning\, knitting\, making bobbin lace\, and more! Observers welcome\, and questions answered.&nbsp\; Light refreshments will be available. Fun for all ages!
LOCATION:Tangles to Treasures 202 W Lincoln Ave Fergus Falls\, MN 56537 Downtown Fergus Falls across from The Viking Cafe
UID:e.314.54816
SEQUENCE:3
DTSTAMP:20260422T185932Z
URL:https://business.fergusfalls.com/events/details/st-kathrine-s-day-open-house-54816
END:VEVENT

END:VCALENDAR
