BEGIN:VCALENDAR
VERSION:2.0
PRODID:-//ChamberMaster//Event Calendar 2.0//EN
METHOD:PUBLISH
X-PUBLISHED-TTL:P3D
REFRESH-INTERVAL:P3D
CALSCALE:GREGORIAN
BEGIN:VEVENT
DTSTART:20180317T163000Z
DTEND:20180318T030000Z
X-MICROSOFT-CDO-ALLDAYEVENT:FALSE
SUMMARY:St. Patrick’s Day at Post 612
DESCRIPTION:Corned Beef and Cabbage from 11:30am until 7:00pm or until gone.\n\n\n\n   Green Beer and Drink Specials.\n\n\n\nD.J. from 8:00pm to Midnight!
X-ALT-DESC;FMTTYPE=text/html:<span class="_4n-j _3cht fsl" data-testid="event-permalink-details">Corned Beef and Cabbage from 11:30am until 7:00pm or until gone.<br />\n<br />\n&#55356\;&#57210\; Green Beer and Drink Specials.<br />\n<br />\nD.J. from 8:00pm to Midnight!</span>
LOCATION:VFW 612 Fergus Falls
UID:e.314.43929
SEQUENCE:3
DTSTAMP:20260424T012122Z
URL:https://business.fergusfalls.com/events/details/st-patrick-s-day-at-post-612-43929
END:VEVENT

END:VCALENDAR
