BEGIN:VCALENDAR
VERSION:2.0
PRODID:-//ChamberMaster//Event Calendar 2.0//EN
METHOD:PUBLISH
X-PUBLISHED-TTL:P3D
REFRESH-INTERVAL:P3D
CALSCALE:GREGORIAN
BEGIN:VEVENT
DTSTART:20160317T160000Z
DTEND:20160317T170000Z
X-MICROSOFT-CDO-ALLDAYEVENT:FALSE
SUMMARY:St. Patrick's Day Celebration
DESCRIPTION:Stop in on March 17th for a few cold green beers to celebrate St Patrick's Day! We will also be serving corned beef\, cabbage and boiled potatoes all day and evening for $9.95. Our drink specials are $1.00 off the green beers and Guinness.
X-ALT-DESC;FMTTYPE=text/html:<span class="_fbReactionComponent__eventDetailsContent fsl">Stop in on March 17th for a few cold green beers to celebrate St Patrick&#39\;s Day! We will also be serving corned beef\, cabbage and boiled potatoes all day and evening for $9.95. Our drink specials are $1.00 off the green beers and Guinness.</span>
LOCATION:Show Map Hide Map Socials Bar & Grill 1815 W Lincoln Ave\, Fergus Falls\, Minnesota 56537
UID:e.314.31836
SEQUENCE:3
DTSTAMP:20260425T181358Z
URL:https://business.fergusfalls.com/events/details/st-patrick-s-day-celebration-03-17-2016-31836
END:VEVENT

END:VCALENDAR
