BEGIN:VCALENDAR
VERSION:2.0
PRODID:-//ChamberMaster//Event Calendar 2.0//EN
METHOD:PUBLISH
X-PUBLISHED-TTL:P3D
REFRESH-INTERVAL:P3D
CALSCALE:GREGORIAN
BEGIN:VEVENT
DTSTART:20160318T000000Z
DTEND:20160318T020000Z
X-MICROSOFT-CDO-ALLDAYEVENT:FALSE
SUMMARY:St. Patrick's Day Wine & Paint Event!
DESCRIPTION:It's the Luck o' the Irish! Please join us for another incredible evening of painting and wine or beverage of your choice. YES - there will be green beer! Our hosts for the evening will provide everything you need to paint a masterpiece\, while enjoying our cash bar. Tickets are only $40 and include one free beverage of your choice! We have limited seating for this event \, so call 218-739-2211 now to reserve your seats! Come before the show to the Z103 for dinner and refreshments or order appetizers during the event. We will also have a DJ in the restaurant afterwards to help celebrate St. Patty's Day!
X-ALT-DESC;FMTTYPE=text/html:<span class="fsl">It&#39\;s the Luck o&#39\; the Irish! Please join us for another incredible evening of painting and wine or beverage of your choice. YES - there will be green beer! Our hosts for the evening will provide everything you need to paint a masterpiece\, while enjoying our cash bar. Tickets are only $40 and include one free beverage of your choice! We have limited seating for this event \, so call 218-739-2211 now to reserve your seats! Come before the show to the Z103 for dinner and refreshments or order appetizers during the event. We will also have a DJ in the restaurant afterwards to help celebrate St. Patty&#39\;s Day!</span>
LOCATION:Best Western & Bigwood Event Center 925 Western Ave\, Fergus Falls\, Minnesota 56537
UID:e.314.31069
SEQUENCE:3
DTSTAMP:20260425T181531Z
URL:https://business.fergusfalls.com/events/details/st-patrick-s-day-wine-paint-event-03-17-2016-31069
END:VEVENT

END:VCALENDAR
