BEGIN:VCALENDAR
VERSION:2.0
PRODID:-//ChamberMaster//Event Calendar 2.0//EN
METHOD:PUBLISH
X-PUBLISHED-TTL:P3D
REFRESH-INTERVAL:P3D
CALSCALE:GREGORIAN
BEGIN:VEVENT
DTSTART;VALUE=DATE:20160618
DTEND;VALUE=DATE:20160619
TRANSP:TRANSPARENT
X-MICROSOFT-CDO-ALLDAYEVENT:TRUE
SUMMARY:Stalker Lake Golf Course 3rd Annual Random Acts of Kindness Scramble
DESCRIPTION:Stalker Lake Golf Course will be hosting our third annual Random act...s of Kindness golf scramble on Saturday June 18th. $50 entry fee per person 4 person teams includes golf\, cart and donation of R.A.K. All money raised is randomly given away\, by buying groceries\, gas\, stamps\, haircuts or what ever we can do to make someones day. This is done in memory of Char Lund in an effort to spread kindness. There are still openings if you are interested in joining us for the noon shotgun this saturday
X-ALT-DESC;FMTTYPE=text/html:<div class="text_exposed_root text_exposed" id="id_5763146cddfc17850965777"><span>Stalker Lake Golf Course will be hosting our third annual Random act<span class="text_exposed_hide">...</span><span class="text_exposed_show">s of Kindness golf scramble on Saturday June 18th. $50 entry fee per person 4 person teams includes golf\, cart and donation of R.A.K. All money raised is randomly given away\, by buying groceries\, gas\, stamps\, haircuts or what ever we can do to make someones day. This is done in memory of Char Lund in an effort to spread kindness. There are still openings if you are interested in joining us for the noon shotgun this saturday</span></span></div>\n
LOCATION:Stalker Lake Golf Course Bar and Grill 15876 Golf Course Rd Dalton \, MN 56324 (218) 589-8591
UID:e.314.32893
SEQUENCE:3
DTSTAMP:20260425T130928Z
URL:https://business.fergusfalls.com/events/details/stalker-lake-golf-course-3rd-annual-random-acts-of-kindness-scramble-06-18-2016-32893
END:VEVENT

END:VCALENDAR
