BEGIN:VCALENDAR
VERSION:2.0
PRODID:-//ChamberMaster//Event Calendar 2.0//EN
METHOD:PUBLISH
X-PUBLISHED-TTL:P3D
REFRESH-INTERVAL:P3D
CALSCALE:GREGORIAN
BEGIN:VEVENT
DTSTART:20170326T010000Z
DTEND:20170326T030000Z
X-MICROSOFT-CDO-ALLDAYEVENT:FALSE
SUMMARY:Stand Up at the Spot
DESCRIPTION:After an incredibly awesome\, barn burner of a trial show last summer\, STAND UP @ THE SPOT RETURNS!\n\n\n\nThis time around we're coming at you as a new\, monthly showcase featuring some of the cleverest crack-ups the Midwest has to offer. We'll even sprinkle in a few national headliners and special guests here and there for those handsome/pretty faces.\n\n\n\nFirst up\, RYAN KAHL and HENRY FUGUITT\, hosted by PHIL KOLAS!!!\n\n\n\nLIMITED SEATING AVAILABLE!\n\n$10 - get your tix in advance or live dangerously and buy at the door (cash only because obviously we're still living in 1877).
X-ALT-DESC;FMTTYPE=text/html:<p><span class="_4n-j _fbReactionComponent__eventDetailsContentTags fsl" data-testid="event-permalink-details">After an incredibly awesome\, barn burner of a trial show last summer\, STAND UP @ THE SPOT RETURNS!<br />\n<br />\nThis time around we&#39\;re coming at you as a new\, monthly showcase featuring some of the cleverest crack-ups the Midwest has to offer. We&#39\;ll even sprinkle in a few national headliners and special guests here and there for those handsome/pretty faces.<br />\n<br />\nFirst up\, RYAN KAHL and HENRY FUGUITT\, hosted by PHIL KOLAS!!!<br />\n<br />\nLIMITED SEATING AVAILABLE!<br />\n$10 - get your tix in advance or live dangerously and buy at the door (cash only because obviously we&#39\;re still living in 1877).</span></p>\n
LOCATION:The Spot Wine & Panini 220 W Lincoln Ave\, Fergus Falls\,
UID:e.314.38920
SEQUENCE:3
DTSTAMP:20260424T224958Z
URL:https://business.fergusfalls.com/events/details/stand-up-at-the-spot-38920
END:VEVENT

END:VCALENDAR
