BEGIN:VCALENDAR
VERSION:2.0
PRODID:-//ChamberMaster//Event Calendar 2.0//EN
METHOD:PUBLISH
X-PUBLISHED-TTL:P3D
REFRESH-INTERVAL:P3D
CALSCALE:GREGORIAN
BEGIN:VEVENT
DTSTART:20171216T154500Z
DTEND:20171216T183000Z
X-MICROSOFT-CDO-ALLDAYEVENT:FALSE
SUMMARY:Star Wars Bring A Friend - Friends\, Members\, & Client Appreciation Showing
DESCRIPTION:Join us you must! We are celebrating the release of the new Star Wars film\, the Last Jedi\, and the Council requests your presence.\n\n\n\nThis private showing of the film will be for you\, my clients\, and your friends and family. We have rented out an entire theater and the event is FREE for you all to attend. In return\, the Council needs your help! We would ask for your assistance in accomplishing our mission - growing our business and helping more people. Please think of at least a couple Jedi's or Padawans that the Force is strong with. Bring them with you and they'll get in free as well! (Invite a few of your co-workers or friends that may be a good fit with Thrivent or would be interested in learning more about the services that I provide.) With your help\, we can bring balance back to the Force.\nRemember: Do. Or do not. There is no try.\n\n-Jedi Master Taylor Larson (or Yoda maybe)
X-ALT-DESC;FMTTYPE=text/html:Join us you must! We are celebrating the release of the new Star Wars film\, the Last Jedi\, and the Council requests your presence.<br />\n<br />\nThis private showing of the film will be for you\, my clients\, and your friends and family. We have rented out an entire theater and the event is FREE for you all to attend. In return\, the Council needs your help! We would ask for your assistance in accomplishing our mission - growing our business and helping more people. Please think of at least a couple Jedi&#39\;s or Padawans that the Force is strong with. Bring them with you and they&#39\;ll get in free as well! (Invite a few of your co-workers or friends that may be a good fit with Thrivent or would be interested in learning more about the services that I provide.) With your help\, we can bring balance back to the Force.\n<p>Remember: Do. Or do not. There is no try.</p>\n\n<p>-Jedi Master Taylor Larson (or Yoda maybe)</p>\n
LOCATION:
UID:e.314.43543
SEQUENCE:3
DTSTAMP:20260424T062141Z
URL:https://business.fergusfalls.com/events/details/star-wars-bring-a-friend-friends-members-client-appreciation-showing-43543
END:VEVENT

END:VCALENDAR
