BEGIN:VCALENDAR
VERSION:2.0
PRODID:-//ChamberMaster//Event Calendar 2.0//EN
METHOD:PUBLISH
X-PUBLISHED-TTL:P3D
REFRESH-INTERVAL:P3D
CALSCALE:GREGORIAN
BEGIN:VEVENT
DTSTART:20160724T223000Z
DTEND:20160724T233000Z
X-MICROSOFT-CDO-ALLDAYEVENT:FALSE
SUMMARY:State Hospital Cemetery Civil War Veteran Graveside Ceremony
DESCRIPTION:State Hospital Cemetery Civil War Veteran Graveside Ceremony\, for more information contact the historical society at 218-736-6038 or visit us at www.otchs.org. No registration is needed for our tour.
X-ALT-DESC;FMTTYPE=text/html:State Hospital Cemetery Civil War Veteran Graveside Ceremony\, for more information contact the historical society at 218-736-6038 or visit us at www.otchs.org. No registration is needed for our tour.
LOCATION:State Hospital Cemetery\, Fergus Falls\, MN
UID:e.314.32858
SEQUENCE:3
DTSTAMP:20260425T131237Z
URL:https://business.fergusfalls.com/events/details/state-hospital-cemetery-civil-war-veteran-graveside-ceremony-07-24-2016-32858
END:VEVENT

END:VCALENDAR
